BEGIN:VCALENDAR
VERSION:2.0
PRODID:-//Community of Christ Union Ave - ECPv6.15.20//NONSGML v1.0//EN
CALSCALE:GREGORIAN
METHOD:PUBLISH
X-ORIGINAL-URL:https://cofchristunion.org
X-WR-CALDESC:Events for Community of Christ Union Ave
REFRESH-INTERVAL;VALUE=DURATION:PT1H
X-Robots-Tag:noindex
X-PUBLISHED-TTL:PT1H
BEGIN:VTIMEZONE
TZID:America/Detroit
BEGIN:DAYLIGHT
TZOFFSETFROM:-0500
TZOFFSETTO:-0400
TZNAME:EDT
DTSTART:20220313T070000
END:DAYLIGHT
BEGIN:STANDARD
TZOFFSETFROM:-0400
TZOFFSETTO:-0500
TZNAME:EST
DTSTART:20221106T060000
END:STANDARD
BEGIN:DAYLIGHT
TZOFFSETFROM:-0500
TZOFFSETTO:-0400
TZNAME:EDT
DTSTART:20230312T070000
END:DAYLIGHT
BEGIN:STANDARD
TZOFFSETFROM:-0400
TZOFFSETTO:-0500
TZNAME:EST
DTSTART:20231105T060000
END:STANDARD
BEGIN:DAYLIGHT
TZOFFSETFROM:-0500
TZOFFSETTO:-0400
TZNAME:EDT
DTSTART:20240310T070000
END:DAYLIGHT
BEGIN:STANDARD
TZOFFSETFROM:-0400
TZOFFSETTO:-0500
TZNAME:EST
DTSTART:20241103T060000
END:STANDARD
END:VTIMEZONE
BEGIN:VEVENT
DTSTART;TZID=America/Detroit:20230326T100000
DTEND;TZID=America/Detroit:20230326T110000
DTSTAMP:20260419T172306
CREATED:20230214T000337Z
LAST-MODIFIED:20230214T000337Z
UID:1779-1679824800-1679828400@cofchristunion.org
SUMMARY:Is Christ in you? (Jesus raises Lazarus)
DESCRIPTION:Fifth Sunday in Lent \nJohn 11: 1-45\, Ezekiel 37: 1-14\, Psalm 130\, Mosiah 8 : 28-37
URL:https://cofchristunion.org/event/is-christ-in-you-jesus-raises-lazarus/
CATEGORIES:Worship Service
END:VEVENT
BEGIN:VEVENT
DTSTART;TZID=America/Detroit:20230326T110500
DTEND;TZID=America/Detroit:20230326T120000
DTSTAMP:20260419T172306
CREATED:20230214T005018Z
LAST-MODIFIED:20230214T005018Z
UID:1794-1679828700-1679832000@cofchristunion.org
SUMMARY:John 11: 1-45
DESCRIPTION:
URL:https://cofchristunion.org/event/john-11-1-45/
CATEGORIES:Going Deeper
END:VEVENT
BEGIN:VEVENT
DTSTART;TZID=America/Detroit:20230326T183000
DTEND;TZID=America/Detroit:20230326T200000
DTSTAMP:20260419T172306
CREATED:20230127T233214Z
LAST-MODIFIED:20230205T230353Z
UID:1645-1679855400-1679860800@cofchristunion.org
SUMMARY:Book Club: The Grace of Les Miserables by Matt Rawle
DESCRIPTION:Come join us as we journey through Lent exploring the themes of grace\, justice\, love\, and hope by discovering the parallels between Lent and the movie Les Miserables. \nContact Judy Rice if you would like the book ($10.00).
URL:https://cofchristunion.org/event/the-grace-of-les-miserables-by-matt-rawle-2/
CATEGORIES:Book Club
END:VEVENT
END:VCALENDAR