BEGIN:VCALENDAR
VERSION:2.0
PRODID:-//Community of Christ Union Ave - ECPv6.15.20//NONSGML v1.0//EN
CALSCALE:GREGORIAN
METHOD:PUBLISH
X-ORIGINAL-URL:https://cofchristunion.org
X-WR-CALDESC:Events for Community of Christ Union Ave
REFRESH-INTERVAL;VALUE=DURATION:PT1H
X-Robots-Tag:noindex
X-PUBLISHED-TTL:PT1H
BEGIN:VTIMEZONE
TZID:America/Detroit
BEGIN:DAYLIGHT
TZOFFSETFROM:-0500
TZOFFSETTO:-0400
TZNAME:EDT
DTSTART:20220313T070000
END:DAYLIGHT
BEGIN:STANDARD
TZOFFSETFROM:-0400
TZOFFSETTO:-0500
TZNAME:EST
DTSTART:20221106T060000
END:STANDARD
BEGIN:DAYLIGHT
TZOFFSETFROM:-0500
TZOFFSETTO:-0400
TZNAME:EDT
DTSTART:20230312T070000
END:DAYLIGHT
BEGIN:STANDARD
TZOFFSETFROM:-0400
TZOFFSETTO:-0500
TZNAME:EST
DTSTART:20231105T060000
END:STANDARD
BEGIN:DAYLIGHT
TZOFFSETFROM:-0500
TZOFFSETTO:-0400
TZNAME:EDT
DTSTART:20240310T070000
END:DAYLIGHT
BEGIN:STANDARD
TZOFFSETFROM:-0400
TZOFFSETTO:-0500
TZNAME:EST
DTSTART:20241103T060000
END:STANDARD
END:VTIMEZONE
BEGIN:VEVENT
DTSTART;TZID=America/Detroit:20230507T100000
DTEND;TZID=America/Detroit:20230507T110000
DTSTAMP:20260419T154626
CREATED:20230328T003420Z
LAST-MODIFIED:20230328T022046Z
UID:1948-1683453600-1683457200@cofchristunion.org
SUMMARY:Become living Stones
DESCRIPTION:Fifth Sunday of Easter \n1 Peter 2: 2-10\, John 14: 1-14\, Psalm 31: 1-5\, Acts 7: 55-60
URL:https://cofchristunion.org/event/become-living-stones/
CATEGORIES:Worship Service
END:VEVENT
BEGIN:VEVENT
DTSTART;TZID=America/Detroit:20230507T183000
DTEND;TZID=America/Detroit:20230507T193000
DTSTAMP:20260419T154626
CREATED:20230325T232503Z
LAST-MODIFIED:20230325T232503Z
UID:1926-1683484200-1683487800@cofchristunion.org
SUMMARY:Bible Study - Sermon on the Mount
DESCRIPTION:Sunday Nights – Session 1
URL:https://cofchristunion.org/event/bible-study-sermon-on-the-mount/
CATEGORIES:Bible Study
END:VEVENT
END:VCALENDAR