BEGIN:VCALENDAR
VERSION:2.0
PRODID:-//Community of Christ Union Ave - ECPv6.15.20//NONSGML v1.0//EN
CALSCALE:GREGORIAN
METHOD:PUBLISH
X-ORIGINAL-URL:https://cofchristunion.org
X-WR-CALDESC:Events for Community of Christ Union Ave
REFRESH-INTERVAL;VALUE=DURATION:PT1H
X-Robots-Tag:noindex
X-PUBLISHED-TTL:PT1H
BEGIN:VTIMEZONE
TZID:America/Detroit
BEGIN:DAYLIGHT
TZOFFSETFROM:-0500
TZOFFSETTO:-0400
TZNAME:EDT
DTSTART:20220313T070000
END:DAYLIGHT
BEGIN:STANDARD
TZOFFSETFROM:-0400
TZOFFSETTO:-0500
TZNAME:EST
DTSTART:20221106T060000
END:STANDARD
BEGIN:DAYLIGHT
TZOFFSETFROM:-0500
TZOFFSETTO:-0400
TZNAME:EDT
DTSTART:20230312T070000
END:DAYLIGHT
BEGIN:STANDARD
TZOFFSETFROM:-0400
TZOFFSETTO:-0500
TZNAME:EST
DTSTART:20231105T060000
END:STANDARD
BEGIN:DAYLIGHT
TZOFFSETFROM:-0500
TZOFFSETTO:-0400
TZNAME:EDT
DTSTART:20240310T070000
END:DAYLIGHT
BEGIN:STANDARD
TZOFFSETFROM:-0400
TZOFFSETTO:-0500
TZNAME:EST
DTSTART:20241103T060000
END:STANDARD
END:VTIMEZONE
BEGIN:VEVENT
DTSTART;TZID=America/Detroit:20230604T100000
DTEND;TZID=America/Detroit:20230604T110000
DTSTAMP:20260419T140518
CREATED:20230606T001347Z
LAST-MODIFIED:20230606T214556Z
UID:2102-1685872800-1685876400@cofchristunion.org
SUMMARY:God\, An Eternal Community
DESCRIPTION:First Sunday After Pentecost – Trinity Sunday \n2 Corinthians 13: 11-13\, Genesis 1: 1-2-4b\, Psalm 8. Matthew 28: 16-20 \nPreside: Priest: Vickie Reynolds \nPreach: Elder Colin Zehr \nCommunion Assisters: Dale\, Dick\, Tim\, Darla
URL:https://cofchristunion.org/event/god-an-eternal-community/
CATEGORIES:Worship Service
END:VEVENT
BEGIN:VEVENT
DTSTART;TZID=America/Detroit:20230604T183000
DTEND;TZID=America/Detroit:20230604T193000
DTSTAMP:20260419T140518
CREATED:20230325T233254Z
LAST-MODIFIED:20230325T233254Z
UID:1930-1685903400-1685907000@cofchristunion.org
SUMMARY:Bible Study - Sermon on the Mount
DESCRIPTION:Session 1
URL:https://cofchristunion.org/event/bible-study-sermon-on-the-mount-3/
CATEGORIES:Bible Study
END:VEVENT
END:VCALENDAR