BEGIN:VCALENDAR
VERSION:2.0
PRODID:-//Community of Christ Union Ave - ECPv6.15.20//NONSGML v1.0//EN
CALSCALE:GREGORIAN
METHOD:PUBLISH
X-WR-CALNAME:Community of Christ Union Ave
X-ORIGINAL-URL:https://cofchristunion.org
X-WR-CALDESC:Events for Community of Christ Union Ave
REFRESH-INTERVAL;VALUE=DURATION:PT1H
X-Robots-Tag:noindex
X-PUBLISHED-TTL:PT1H
BEGIN:VTIMEZONE
TZID:America/Detroit
BEGIN:DAYLIGHT
TZOFFSETFROM:-0500
TZOFFSETTO:-0400
TZNAME:EDT
DTSTART:20220313T070000
END:DAYLIGHT
BEGIN:STANDARD
TZOFFSETFROM:-0400
TZOFFSETTO:-0500
TZNAME:EST
DTSTART:20221106T060000
END:STANDARD
BEGIN:DAYLIGHT
TZOFFSETFROM:-0500
TZOFFSETTO:-0400
TZNAME:EDT
DTSTART:20230312T070000
END:DAYLIGHT
BEGIN:STANDARD
TZOFFSETFROM:-0400
TZOFFSETTO:-0500
TZNAME:EST
DTSTART:20231105T060000
END:STANDARD
BEGIN:DAYLIGHT
TZOFFSETFROM:-0500
TZOFFSETTO:-0400
TZNAME:EDT
DTSTART:20240310T070000
END:DAYLIGHT
BEGIN:STANDARD
TZOFFSETFROM:-0400
TZOFFSETTO:-0500
TZNAME:EST
DTSTART:20241103T060000
END:STANDARD
END:VTIMEZONE
BEGIN:VEVENT
DTSTART;TZID=America/Detroit:20230611T100000
DTEND;TZID=America/Detroit:20230611T110000
DTSTAMP:20260419T135719
CREATED:20230606T215912Z
LAST-MODIFIED:20230606T215912Z
UID:2106-1686477600-1686481200@cofchristunion.org
SUMMARY:Reach out with Faith
DESCRIPTION:Matthew 9: 9-13\, 18-26/ 9:10-14\, 23-32 IV\, Genesis 12: 1-9\, Psalm 33: 1-12\, Romans 4: 13-25\, Doc & Cov 151: 9 \nPreside: Patti Findley \nPreach: Evangelist: Bobbi Mier \nKeyboard: Linda Kuhn
URL:https://cofchristunion.org/event/reach-out-with-faith/
CATEGORIES:Worship Service
END:VEVENT
END:VCALENDAR