BEGIN:VCALENDAR
VERSION:2.0
PRODID:-//Community of Christ Union Ave - ECPv6.15.20//NONSGML v1.0//EN
CALSCALE:GREGORIAN
METHOD:PUBLISH
X-ORIGINAL-URL:https://cofchristunion.org
X-WR-CALDESC:Events for Community of Christ Union Ave
REFRESH-INTERVAL;VALUE=DURATION:PT1H
X-Robots-Tag:noindex
X-PUBLISHED-TTL:PT1H
BEGIN:VTIMEZONE
TZID:America/Detroit
BEGIN:DAYLIGHT
TZOFFSETFROM:-0500
TZOFFSETTO:-0400
TZNAME:EDT
DTSTART:20220313T070000
END:DAYLIGHT
BEGIN:STANDARD
TZOFFSETFROM:-0400
TZOFFSETTO:-0500
TZNAME:EST
DTSTART:20221106T060000
END:STANDARD
BEGIN:DAYLIGHT
TZOFFSETFROM:-0500
TZOFFSETTO:-0400
TZNAME:EDT
DTSTART:20230312T070000
END:DAYLIGHT
BEGIN:STANDARD
TZOFFSETFROM:-0400
TZOFFSETTO:-0500
TZNAME:EST
DTSTART:20231105T060000
END:STANDARD
BEGIN:DAYLIGHT
TZOFFSETFROM:-0500
TZOFFSETTO:-0400
TZNAME:EDT
DTSTART:20240310T070000
END:DAYLIGHT
BEGIN:STANDARD
TZOFFSETFROM:-0400
TZOFFSETTO:-0500
TZNAME:EST
DTSTART:20241103T060000
END:STANDARD
END:VTIMEZONE
BEGIN:VEVENT
DTSTART;TZID=America/Detroit:20230910T080000
DTEND;TZID=America/Detroit:20230910T170000
DTSTAMP:20260423T233321
CREATED:20230325T234550Z
LAST-MODIFIED:20230325T234550Z
UID:1935-1694332800-1694365200@cofchristunion.org
SUMMARY:Bible Study - Sermon on the Mount
DESCRIPTION:Session 2
URL:https://cofchristunion.org/event/bible-study-sermon-on-the-mount-4/
CATEGORIES:Bible Study
END:VEVENT
BEGIN:VEVENT
DTSTART;TZID=America/Detroit:20230924T180000
DTEND;TZID=America/Detroit:20230924T193000
DTSTAMP:20260423T233321
CREATED:20230924T185601Z
LAST-MODIFIED:20230924T185641Z
UID:2334-1695578400-1695583800@cofchristunion.org
SUMMARY:Bible Study
DESCRIPTION:Working through the study guide\, \n“A deeper look at the Sermon on the Mount” by John Stott 2nd & 4th Sunday @ 6:00 PM \nLocation – Union Ave  basement \nBook & snacks provided \n(time & date may change – please review website)
URL:https://cofchristunion.org/event/bible-study-2/
CATEGORIES:Bible Study
END:VEVENT
BEGIN:VEVENT
DTSTART;TZID=America/Detroit:20230924T183000
DTEND;TZID=America/Detroit:20230924T193000
DTSTAMP:20260423T233321
CREATED:20230326T000041Z
LAST-MODIFIED:20230326T000041Z
UID:1937-1695580200-1695583800@cofchristunion.org
SUMMARY:Bible Study - Sermon on the Mount
DESCRIPTION:Session 2
URL:https://cofchristunion.org/event/bible-study-sermon-on-the-mount-5/
CATEGORIES:Bible Study
END:VEVENT
END:VCALENDAR