BEGIN:VCALENDAR
VERSION:2.0
PRODID:-//Community of Christ Union Ave - ECPv6.15.20//NONSGML v1.0//EN
CALSCALE:GREGORIAN
METHOD:PUBLISH
X-ORIGINAL-URL:https://cofchristunion.org
X-WR-CALDESC:Events for Community of Christ Union Ave
REFRESH-INTERVAL;VALUE=DURATION:PT1H
X-Robots-Tag:noindex
X-PUBLISHED-TTL:PT1H
BEGIN:VTIMEZONE
TZID:America/Detroit
BEGIN:DAYLIGHT
TZOFFSETFROM:-0500
TZOFFSETTO:-0400
TZNAME:EDT
DTSTART:20230312T070000
END:DAYLIGHT
BEGIN:STANDARD
TZOFFSETFROM:-0400
TZOFFSETTO:-0500
TZNAME:EST
DTSTART:20231105T060000
END:STANDARD
BEGIN:DAYLIGHT
TZOFFSETFROM:-0500
TZOFFSETTO:-0400
TZNAME:EDT
DTSTART:20240310T070000
END:DAYLIGHT
BEGIN:STANDARD
TZOFFSETFROM:-0400
TZOFFSETTO:-0500
TZNAME:EST
DTSTART:20241103T060000
END:STANDARD
BEGIN:DAYLIGHT
TZOFFSETFROM:-0500
TZOFFSETTO:-0400
TZNAME:EDT
DTSTART:20250309T070000
END:DAYLIGHT
BEGIN:STANDARD
TZOFFSETFROM:-0400
TZOFFSETTO:-0500
TZNAME:EST
DTSTART:20251102T060000
END:STANDARD
BEGIN:DAYLIGHT
TZOFFSETFROM:-0500
TZOFFSETTO:-0400
TZNAME:EDT
DTSTART:20260308T070000
END:DAYLIGHT
BEGIN:STANDARD
TZOFFSETFROM:-0400
TZOFFSETTO:-0500
TZNAME:EST
DTSTART:20261101T060000
END:STANDARD
END:VTIMEZONE
BEGIN:VEVENT
DTSTART;TZID=America/Detroit:20250511T111500
DTEND;TZID=America/Detroit:20250511T120000
DTSTAMP:20260419T075035
CREATED:20250429T200541Z
LAST-MODIFIED:20250429T200541Z
UID:4531-1746962100-1746964800@cofchristunion.org
SUMMARY:Theme - Hunger and Thirst No More
DESCRIPTION:
URL:https://cofchristunion.org/event/theme-hunger-and-thirst-no-more/
CATEGORIES:Going Deeper
END:VEVENT
BEGIN:VEVENT
DTSTART;TZID=America/Detroit:20250504T111500
DTEND;TZID=America/Detroit:20250504T120000
DTSTAMP:20260419T075035
CREATED:20250429T195022Z
LAST-MODIFIED:20250429T195022Z
UID:4527-1746357300-1746360000@cofchristunion.org
SUMMARY:Theme - Sing with Full Voice!
DESCRIPTION:
URL:https://cofchristunion.org/event/theme-sing-with-full-voice/
CATEGORIES:Going Deeper
END:VEVENT
BEGIN:VEVENT
DTSTART;TZID=America/Detroit:20250427T111500
DTEND;TZID=America/Detroit:20250427T120000
DTSTAMP:20260419T075035
CREATED:20250310T154656Z
LAST-MODIFIED:20250310T154656Z
UID:4392-1745752500-1745755200@cofchristunion.org
SUMMARY:Theme - Every Eye Will See
DESCRIPTION:
URL:https://cofchristunion.org/event/theme-every-eye-will-see/
CATEGORIES:Going Deeper
END:VEVENT
BEGIN:VEVENT
DTSTART;TZID=America/Detroit:20250420T111500
DTEND;TZID=America/Detroit:20250420T120000
DTSTAMP:20260419T075035
CREATED:20250310T153259Z
LAST-MODIFIED:20250310T153259Z
UID:4388-1745147700-1745150400@cofchristunion.org
SUMMARY:Theme - Alive in Christ
DESCRIPTION:
URL:https://cofchristunion.org/event/theme-alive-in-christ/
CATEGORIES:Going Deeper
END:VEVENT
BEGIN:VEVENT
DTSTART;TZID=America/Detroit:20250413T111500
DTEND;TZID=America/Detroit:20250413T120000
DTSTAMP:20260419T075035
CREATED:20250310T005336Z
LAST-MODIFIED:20250310T005336Z
UID:4383-1744542900-1744545600@cofchristunion.org
SUMMARY:Theme - Courageously Walk with Jesus
DESCRIPTION:
URL:https://cofchristunion.org/event/theme-courageously-walk-with-jesus/
CATEGORIES:Going Deeper
END:VEVENT
BEGIN:VEVENT
DTSTART;TZID=America/Detroit:20250406T100000
DTEND;TZID=America/Detroit:20250406T110000
DTSTAMP:20260419T075035
CREATED:20250310T003825Z
LAST-MODIFIED:20250310T003825Z
UID:4379-1743933600-1743937200@cofchristunion.org
SUMMARY:Theme - A Priceless Offering
DESCRIPTION:
URL:https://cofchristunion.org/event/theme-a-priceless-offering/
CATEGORIES:Going Deeper
END:VEVENT
BEGIN:VEVENT
DTSTART;TZID=America/Detroit:20250330T111500
DTEND;TZID=America/Detroit:20250330T120000
DTSTAMP:20260419T075035
CREATED:20250218T133933Z
LAST-MODIFIED:20250218T133933Z
UID:4279-1743333300-1743336000@cofchristunion.org
SUMMARY:Theme - Be Reconciled to God
DESCRIPTION:
URL:https://cofchristunion.org/event/theme-be-reconciled-to-god/
CATEGORIES:Going Deeper
END:VEVENT
BEGIN:VEVENT
DTSTART;TZID=America/Detroit:20250323T111500
DTEND;TZID=America/Detroit:20250323T120000
DTSTAMP:20260419T075035
CREATED:20250218T132244Z
LAST-MODIFIED:20250218T132244Z
UID:4275-1742728500-1742731200@cofchristunion.org
SUMMARY:Theme - When We Are Tested
DESCRIPTION:
URL:https://cofchristunion.org/event/theme-when-we-are-tested/
CATEGORIES:Going Deeper
END:VEVENT
BEGIN:VEVENT
DTSTART;TZID=America/Detroit:20250316T111500
DTEND;TZID=America/Detroit:20250316T120000
DTSTAMP:20260419T075035
CREATED:20250205T015824Z
LAST-MODIFIED:20250205T015824Z
UID:4244-1742123700-1742126400@cofchristunion.org
SUMMARY:Theme - Stand Firm in The Lord
DESCRIPTION:
URL:https://cofchristunion.org/event/theme-stand-firm-in-the-lord/
CATEGORIES:Going Deeper
END:VEVENT
BEGIN:VEVENT
DTSTART;TZID=America/Detroit:20250309T111500
DTEND;TZID=America/Detroit:20250309T120000
DTSTAMP:20260419T075035
CREATED:20250205T014447Z
LAST-MODIFIED:20250221T144603Z
UID:4240-1741518900-1741521600@cofchristunion.org
SUMMARY:Theme - Guided by the Spirit
DESCRIPTION:
URL:https://cofchristunion.org/event/theme-believe-with-our-hearts/
CATEGORIES:Going Deeper
END:VEVENT
BEGIN:VEVENT
DTSTART;TZID=America/Detroit:20250302T111500
DTEND;TZID=America/Detroit:20250302T120000
DTSTAMP:20260419T075035
CREATED:20250205T012826Z
LAST-MODIFIED:20250205T012826Z
UID:4236-1740914100-1740916800@cofchristunion.org
SUMMARY:Theme - Seek Spiritual Freedom
DESCRIPTION:
URL:https://cofchristunion.org/event/theme-seek-spiritual-freedom/
CATEGORIES:Going Deeper
END:VEVENT
BEGIN:VEVENT
DTSTART;TZID=America/Detroit:20250223T111500
DTEND;TZID=America/Detroit:20250223T120000
DTSTAMP:20260419T075035
CREATED:20250106T220817Z
LAST-MODIFIED:20250106T220927Z
UID:4137-1740309300-1740312000@cofchristunion.org
SUMMARY:Theme - Make Room for Emerging Life
DESCRIPTION:
URL:https://cofchristunion.org/event/theme-make-room-for-emerging-life/
CATEGORIES:Going Deeper
END:VEVENT
BEGIN:VEVENT
DTSTART;TZID=America/Detroit:20250216T111500
DTEND;TZID=America/Detroit:20250216T120000
DTSTAMP:20260419T075035
CREATED:20250106T215224Z
LAST-MODIFIED:20250106T215224Z
UID:4133-1739704500-1739707200@cofchristunion.org
SUMMARY:Theme - Practice Resurrection
DESCRIPTION:
URL:https://cofchristunion.org/event/theme-practice-resurrection/
CATEGORIES:Going Deeper
END:VEVENT
BEGIN:VEVENT
DTSTART;TZID=America/Detroit:20250209T111500
DTEND;TZID=America/Detroit:20250209T120000
DTSTAMP:20260419T075035
CREATED:20241231T202859Z
LAST-MODIFIED:20241231T203035Z
UID:4112-1739099700-1739102400@cofchristunion.org
SUMMARY:Theme - Into the Deep Water
DESCRIPTION:
URL:https://cofchristunion.org/event/theme-into-the-deep-water/
CATEGORIES:Going Deeper
END:VEVENT
BEGIN:VEVENT
DTSTART;TZID=America/Detroit:20250202T111500
DTEND;TZID=America/Detroit:20250202T120000
DTSTAMP:20260419T075035
CREATED:20241231T201339Z
LAST-MODIFIED:20241231T201339Z
UID:4108-1738494900-1738497600@cofchristunion.org
SUMMARY:Theme - Love is.....
DESCRIPTION:
URL:https://cofchristunion.org/event/theme-love-is/
CATEGORIES:Going Deeper
END:VEVENT
BEGIN:VEVENT
DTSTART;TZID=America/Detroit:20250126T111500
DTEND;TZID=America/Detroit:20250126T120000
DTSTAMP:20260419T075035
CREATED:20241230T205104Z
LAST-MODIFIED:20250106T211824Z
UID:4080-1737890100-1737892800@cofchristunion.org
SUMMARY:Theme - Members of One Body
DESCRIPTION:
URL:https://cofchristunion.org/event/theme-members-of-one-body/
CATEGORIES:Going Deeper
END:VEVENT
BEGIN:VEVENT
DTSTART;TZID=America/Detroit:20250119T111500
DTEND;TZID=America/Detroit:20250119T120000
DTSTAMP:20260419T075035
CREATED:20241230T203711Z
LAST-MODIFIED:20241230T203711Z
UID:4076-1737285300-1737288000@cofchristunion.org
SUMMARY:Theme - Many Gifts\, One Spirit  (Racial Justice Day)
DESCRIPTION:
URL:https://cofchristunion.org/event/theme-many-gifts-one-spirit-racial-justice-day/
CATEGORIES:Going Deeper
END:VEVENT
BEGIN:VEVENT
DTSTART;TZID=America/Detroit:20250112T111500
DTEND;TZID=America/Detroit:20250112T120000
DTSTAMP:20260419T075035
CREATED:20241230T201913Z
LAST-MODIFIED:20250105T004020Z
UID:4072-1736680500-1736683200@cofchristunion.org
SUMMARY:Theme - Discover Great Possibilities With Jesus
DESCRIPTION:
URL:https://cofchristunion.org/event/theme/
CATEGORIES:Going Deeper
END:VEVENT
BEGIN:VEVENT
DTSTART;TZID=America/Detroit:20250105T111500
DTEND;TZID=America/Detroit:20250105T120000
DTSTAMP:20260419T075035
CREATED:20241230T200654Z
LAST-MODIFIED:20241230T200654Z
UID:4068-1736075700-1736078400@cofchristunion.org
SUMMARY:Theme - Receive Grace Upon Grace
DESCRIPTION:
URL:https://cofchristunion.org/event/theme-receive-grace-upon-grace/
CATEGORIES:Going Deeper
END:VEVENT
BEGIN:VEVENT
DTSTART;TZID=America/Detroit:20241229T111500
DTEND;TZID=America/Detroit:20241229T120000
DTSTAMP:20260419T075035
CREATED:20241125T145003Z
LAST-MODIFIED:20241125T145003Z
UID:3957-1735470900-1735473600@cofchristunion.org
SUMMARY:Theme - Good News of Great Joy
DESCRIPTION:
URL:https://cofchristunion.org/event/theme-good-news-of-great-joy-2/
CATEGORIES:Going Deeper
END:VEVENT
BEGIN:VEVENT
DTSTART;TZID=America/Detroit:20241229T111500
DTEND;TZID=America/Detroit:20241229T120000
DTSTAMP:20260419T075035
CREATED:20241110T202327Z
LAST-MODIFIED:20241110T202327Z
UID:3901-1735470900-1735473600@cofchristunion.org
SUMMARY:Theme - Good News of Great Joy
DESCRIPTION:
URL:https://cofchristunion.org/event/theme-good-news-of-great-joy/
CATEGORIES:Going Deeper
END:VEVENT
BEGIN:VEVENT
DTSTART;TZID=America/Detroit:20241222T111500
DTEND;TZID=America/Detroit:20241222T120000
DTSTAMP:20260419T075035
CREATED:20241125T144130Z
LAST-MODIFIED:20241125T144130Z
UID:3953-1734866100-1734868800@cofchristunion.org
SUMMARY:Theme - Peace Overflows
DESCRIPTION:
URL:https://cofchristunion.org/event/theme-peace-overflows-2/
CATEGORIES:Going Deeper
END:VEVENT
BEGIN:VEVENT
DTSTART;TZID=America/Detroit:20241222T111500
DTEND;TZID=America/Detroit:20241222T120000
DTSTAMP:20260419T075035
CREATED:20241110T201238Z
LAST-MODIFIED:20241110T201238Z
UID:3897-1734866100-1734868800@cofchristunion.org
SUMMARY:Theme - Peace Overflows
DESCRIPTION:
URL:https://cofchristunion.org/event/theme-peace-overflows/
CATEGORIES:Going Deeper
END:VEVENT
BEGIN:VEVENT
DTSTART;TZID=America/Detroit:20241215T111500
DTEND;TZID=America/Detroit:20241215T120000
DTSTAMP:20260419T075035
CREATED:20241125T143131Z
LAST-MODIFIED:20241125T143131Z
UID:3949-1734261300-1734264000@cofchristunion.org
SUMMARY:Theme - Hope Overflows
DESCRIPTION:
URL:https://cofchristunion.org/event/theme-hope-overflows-2/
CATEGORIES:Going Deeper
END:VEVENT
BEGIN:VEVENT
DTSTART;TZID=America/Detroit:20241215T111500
DTEND;TZID=America/Detroit:20241215T120000
DTSTAMP:20260419T075035
CREATED:20241110T195208Z
LAST-MODIFIED:20241110T195208Z
UID:3893-1734261300-1734264000@cofchristunion.org
SUMMARY:Theme - Hope Overflows
DESCRIPTION:
URL:https://cofchristunion.org/event/theme-hope-overflows/
CATEGORIES:Going Deeper
END:VEVENT
BEGIN:VEVENT
DTSTART;TZID=America/Detroit:20241208T111500
DTEND;TZID=America/Detroit:20241208T120000
DTSTAMP:20260419T075035
CREATED:20241125T142047Z
LAST-MODIFIED:20241125T142047Z
UID:3945-1733656500-1733659200@cofchristunion.org
SUMMARY:Theme -Love Overflows
DESCRIPTION:
URL:https://cofchristunion.org/event/theme-love-overflows-2/
CATEGORIES:Going Deeper
END:VEVENT
BEGIN:VEVENT
DTSTART;TZID=America/Detroit:20241208T111500
DTEND;TZID=America/Detroit:20241208T120000
DTSTAMP:20260419T075035
CREATED:20241110T193906Z
LAST-MODIFIED:20241110T193906Z
UID:3889-1733656500-1733659200@cofchristunion.org
SUMMARY:Theme - Love Overflows
DESCRIPTION:
URL:https://cofchristunion.org/event/theme-love-overflows/
CATEGORIES:Going Deeper
END:VEVENT
BEGIN:VEVENT
DTSTART;TZID=America/Detroit:20241201T111500
DTEND;TZID=America/Detroit:20241201T120000
DTSTAMP:20260419T075035
CREATED:20241125T140712Z
LAST-MODIFIED:20241125T140712Z
UID:3941-1733051700-1733054400@cofchristunion.org
SUMMARY:Theme - Joy Overflows
DESCRIPTION:
URL:https://cofchristunion.org/event/theme-joy-overflows-2/
CATEGORIES:Going Deeper
END:VEVENT
BEGIN:VEVENT
DTSTART;TZID=America/Detroit:20241201T111500
DTEND;TZID=America/Detroit:20241201T120000
DTSTAMP:20260419T075035
CREATED:20241110T192622Z
LAST-MODIFIED:20241110T192622Z
UID:3885-1733051700-1733054400@cofchristunion.org
SUMMARY:Theme - Joy Overflows
DESCRIPTION:
URL:https://cofchristunion.org/event/theme-joy-overflows/
CATEGORIES:Going Deeper
END:VEVENT
BEGIN:VEVENT
DTSTART;TZID=America/Detroit:20241124T111500
DTEND;TZID=America/Detroit:20241124T120000
DTSTAMP:20260419T075035
CREATED:20241002T000131Z
LAST-MODIFIED:20241002T000131Z
UID:3774-1732446900-1732449600@cofchristunion.org
SUMMARY:Theme - Thanksgiving Services
DESCRIPTION:
URL:https://cofchristunion.org/event/theme-thanksgiving-services/
CATEGORIES:Going Deeper
END:VEVENT
END:VCALENDAR