BEGIN:VCALENDAR
VERSION:2.0
PRODID:-//Community of Christ Union Ave - ECPv6.15.20//NONSGML v1.0//EN
CALSCALE:GREGORIAN
METHOD:PUBLISH
X-WR-CALNAME:Community of Christ Union Ave
X-ORIGINAL-URL:https://cofchristunion.org
X-WR-CALDESC:Events for Community of Christ Union Ave
REFRESH-INTERVAL;VALUE=DURATION:PT1H
X-Robots-Tag:noindex
X-PUBLISHED-TTL:PT1H
BEGIN:VTIMEZONE
TZID:America/Detroit
BEGIN:DAYLIGHT
TZOFFSETFROM:-0500
TZOFFSETTO:-0400
TZNAME:EDT
DTSTART:20220313T070000
END:DAYLIGHT
BEGIN:STANDARD
TZOFFSETFROM:-0400
TZOFFSETTO:-0500
TZNAME:EST
DTSTART:20221106T060000
END:STANDARD
BEGIN:DAYLIGHT
TZOFFSETFROM:-0500
TZOFFSETTO:-0400
TZNAME:EDT
DTSTART:20230312T070000
END:DAYLIGHT
BEGIN:STANDARD
TZOFFSETFROM:-0400
TZOFFSETTO:-0500
TZNAME:EST
DTSTART:20231105T060000
END:STANDARD
BEGIN:DAYLIGHT
TZOFFSETFROM:-0500
TZOFFSETTO:-0400
TZNAME:EDT
DTSTART:20240310T070000
END:DAYLIGHT
BEGIN:STANDARD
TZOFFSETFROM:-0400
TZOFFSETTO:-0500
TZNAME:EST
DTSTART:20241103T060000
END:STANDARD
END:VTIMEZONE
BEGIN:VEVENT
DTSTART;TZID=America/Detroit:20230115T110000
DTEND;TZID=America/Detroit:20230115T120000
DTSTAMP:20260423T165748
CREATED:20230104T154220Z
LAST-MODIFIED:20230104T154613Z
UID:1363-1673780400-1673784000@cofchristunion.org
SUMMARY:Prayers & discussion for J2P Meeting
DESCRIPTION:
URL:https://cofchristunion.org/event/prayers-discussion-for-j2p-meeting/
LOCATION:MI
CATEGORIES:Going Deeper,Justice 2 Peace
END:VEVENT
BEGIN:VEVENT
DTSTART;TZID=America/Detroit:20230115T180000
DTEND;TZID=America/Detroit:20230115T180000
DTSTAMP:20260423T165748
CREATED:20221130T200426Z
LAST-MODIFIED:20230102T035720Z
UID:1012-1673805600-1673805600@cofchristunion.org
SUMMARY:Elder Abuse: What is it? How to recognize it? What to do about it?
DESCRIPTION:Kay Scholle\, MSW\, ETA \nCertified Long-term Care Ombudsman \nArea Agency on Aging of West Michigan \n  \nChristopher R. Becker \nKent County Prosecutor
URL:https://cofchristunion.org/event/recognizing-elder-abuse-and-how-to-provide-care/
LOCATION:MI
CATEGORIES:Justice 2 Peace
END:VEVENT
END:VCALENDAR