BEGIN:VCALENDAR
VERSION:2.0
PRODID:-//Community of Christ Union Ave - ECPv6.15.20//NONSGML v1.0//EN
CALSCALE:GREGORIAN
METHOD:PUBLISH
X-WR-CALNAME:Community of Christ Union Ave
X-ORIGINAL-URL:https://cofchristunion.org
X-WR-CALDESC:Events for Community of Christ Union Ave
REFRESH-INTERVAL;VALUE=DURATION:PT1H
X-Robots-Tag:noindex
X-PUBLISHED-TTL:PT1H
BEGIN:VTIMEZONE
TZID:America/Detroit
BEGIN:DAYLIGHT
TZOFFSETFROM:-0500
TZOFFSETTO:-0400
TZNAME:EDT
DTSTART:20220313T070000
END:DAYLIGHT
BEGIN:STANDARD
TZOFFSETFROM:-0400
TZOFFSETTO:-0500
TZNAME:EST
DTSTART:20221106T060000
END:STANDARD
BEGIN:DAYLIGHT
TZOFFSETFROM:-0500
TZOFFSETTO:-0400
TZNAME:EDT
DTSTART:20230312T070000
END:DAYLIGHT
BEGIN:STANDARD
TZOFFSETFROM:-0400
TZOFFSETTO:-0500
TZNAME:EST
DTSTART:20231105T060000
END:STANDARD
BEGIN:DAYLIGHT
TZOFFSETFROM:-0500
TZOFFSETTO:-0400
TZNAME:EDT
DTSTART:20240310T070000
END:DAYLIGHT
BEGIN:STANDARD
TZOFFSETFROM:-0400
TZOFFSETTO:-0500
TZNAME:EST
DTSTART:20241103T060000
END:STANDARD
END:VTIMEZONE
BEGIN:VEVENT
DTSTART;TZID=America/Detroit:20230211T140000
DTEND;TZID=America/Detroit:20230211T150000
DTSTAMP:20260423T165951
CREATED:20230120T014242Z
LAST-MODIFIED:20230120T014401Z
UID:1597-1676124000-1676127600@cofchristunion.org
SUMMARY:Working with Dementia in the Family
DESCRIPTION:Lisa Schiltuis\, Co-Partner\nAllyssa Zehr Co-Partner\nWorking with Dementia can be difficult. If you have a family member with dementia then this workshop will be helpful. You will leave with a number of activities that will help engage family members with dementia. \n  \nLed by GrandMinds LLC \nCo-Partners Lisa Schiltuis and Alyssa Zehr \nRegistration requested but not required.
URL:https://cofchristunion.org/event/working-with-dementia/
LOCATION:MI
CATEGORIES:Justice 2 Peace
END:VEVENT
END:VCALENDAR