BEGIN:VCALENDAR
VERSION:2.0
PRODID:-//Community of Christ Union Ave - ECPv6.15.20//NONSGML v1.0//EN
CALSCALE:GREGORIAN
METHOD:PUBLISH
X-WR-CALNAME:Community of Christ Union Ave
X-ORIGINAL-URL:https://cofchristunion.org
X-WR-CALDESC:Events for Community of Christ Union Ave
REFRESH-INTERVAL;VALUE=DURATION:PT1H
X-Robots-Tag:noindex
X-PUBLISHED-TTL:PT1H
BEGIN:VTIMEZONE
TZID:America/Detroit
BEGIN:DAYLIGHT
TZOFFSETFROM:-0500
TZOFFSETTO:-0400
TZNAME:EDT
DTSTART:20220313T070000
END:DAYLIGHT
BEGIN:STANDARD
TZOFFSETFROM:-0400
TZOFFSETTO:-0500
TZNAME:EST
DTSTART:20221106T060000
END:STANDARD
BEGIN:DAYLIGHT
TZOFFSETFROM:-0500
TZOFFSETTO:-0400
TZNAME:EDT
DTSTART:20230312T070000
END:DAYLIGHT
BEGIN:STANDARD
TZOFFSETFROM:-0400
TZOFFSETTO:-0500
TZNAME:EST
DTSTART:20231105T060000
END:STANDARD
BEGIN:DAYLIGHT
TZOFFSETFROM:-0500
TZOFFSETTO:-0400
TZNAME:EDT
DTSTART:20240310T070000
END:DAYLIGHT
BEGIN:STANDARD
TZOFFSETFROM:-0400
TZOFFSETTO:-0500
TZNAME:EST
DTSTART:20241103T060000
END:STANDARD
END:VTIMEZONE
BEGIN:VEVENT
DTSTART;TZID=America/Detroit:20230107T100000
DTEND;TZID=America/Detroit:20230107T110000
DTSTAMP:20260423T101755
CREATED:20230108T003835Z
LAST-MODIFIED:20230108T003835Z
UID:1552-1673085600-1673089200@cofchristunion.org
SUMMARY:Worship
DESCRIPTION:Formed in the Spirit \n1 Corinthians 2: 1-16\, Isaiah 58: 1-12\, Psalms 112: 1-10\, Matthew 5: 13-20
URL:https://cofchristunion.org/event/worship-4/
CATEGORIES:Worship Service
END:VEVENT
BEGIN:VEVENT
DTSTART;TZID=America/Detroit:20230115T100000
DTEND;TZID=America/Detroit:20230115T110000
DTSTAMP:20260423T101755
CREATED:20230104T160048Z
LAST-MODIFIED:20230111T102951Z
UID:1370-1673776800-1673780400@cofchristunion.org
SUMMARY:Worship
DESCRIPTION:The Wisemen Visit \nMatthew 2: 1-12 \nPresiding: Dick Blair \nPreaching: Bobbi Mier \nBulletin \nAnnouncements
URL:https://cofchristunion.org/event/january-15-2023-the-wiseman-visit/
CATEGORIES:Worship Service
END:VEVENT
BEGIN:VEVENT
DTSTART;TZID=America/Detroit:20230122T100000
DTEND;TZID=America/Detroit:20230122T110000
DTSTAMP:20260423T101755
CREATED:20230104T161040Z
LAST-MODIFIED:20230120T010218Z
UID:1373-1674381600-1674385200@cofchristunion.org
SUMMARY:Worship
DESCRIPTION:Jesus Teaches in the Temple \nLuke 2: 41-52 \nPresiding: Brenda Harvey \nPreaching: Tom Reynolds
URL:https://cofchristunion.org/event/worship-2/
CATEGORIES:Worship Service
END:VEVENT
BEGIN:VEVENT
DTSTART;TZID=America/Detroit:20230129T100000
DTEND;TZID=America/Detroit:20230129T110000
DTSTAMP:20260423T101755
CREATED:20230104T161619Z
LAST-MODIFIED:20230104T161619Z
UID:1375-1674986400-1674990000@cofchristunion.org
SUMMARY:Worship
DESCRIPTION:The Baptism of Jesus \nMatthew 3: 13-17
URL:https://cofchristunion.org/event/worship-3/
LOCATION:Sanctuary\, 2140 Union Ave\, Grand Rapids\, MI\, United States
CATEGORIES:Worship Service
END:VEVENT
END:VCALENDAR