BEGIN:VCALENDAR
VERSION:2.0
PRODID:-//Community of Christ Union Ave - ECPv6.15.20//NONSGML v1.0//EN
CALSCALE:GREGORIAN
METHOD:PUBLISH
X-ORIGINAL-URL:https://cofchristunion.org
X-WR-CALDESC:Events for Community of Christ Union Ave
REFRESH-INTERVAL;VALUE=DURATION:PT1H
X-Robots-Tag:noindex
X-PUBLISHED-TTL:PT1H
BEGIN:VTIMEZONE
TZID:America/Detroit
BEGIN:DAYLIGHT
TZOFFSETFROM:-0500
TZOFFSETTO:-0400
TZNAME:EDT
DTSTART:20220313T070000
END:DAYLIGHT
BEGIN:STANDARD
TZOFFSETFROM:-0400
TZOFFSETTO:-0500
TZNAME:EST
DTSTART:20221106T060000
END:STANDARD
BEGIN:DAYLIGHT
TZOFFSETFROM:-0500
TZOFFSETTO:-0400
TZNAME:EDT
DTSTART:20230312T070000
END:DAYLIGHT
BEGIN:STANDARD
TZOFFSETFROM:-0400
TZOFFSETTO:-0500
TZNAME:EST
DTSTART:20231105T060000
END:STANDARD
BEGIN:DAYLIGHT
TZOFFSETFROM:-0500
TZOFFSETTO:-0400
TZNAME:EDT
DTSTART:20240310T070000
END:DAYLIGHT
BEGIN:STANDARD
TZOFFSETFROM:-0400
TZOFFSETTO:-0500
TZNAME:EST
DTSTART:20241103T060000
END:STANDARD
END:VTIMEZONE
BEGIN:VEVENT
DTSTART;TZID=America/Detroit:20230305T100000
DTEND;TZID=America/Detroit:20230305T110000
DTSTAMP:20260423T072248
CREATED:20230213T234128Z
LAST-MODIFIED:20230213T234128Z
UID:1769-1678010400-1678014000@cofchristunion.org
SUMMARY:Explore Your Faith (Nicodemus)
DESCRIPTION:Second Sunday in Lent \nJohn 3: 1-17\, Genesis 12: 1-4a\, Psalm 121\, D&C 95: 1a \n 
URL:https://cofchristunion.org/event/explore-your-faith-nicodemus/
CATEGORIES:Worship Service
END:VEVENT
BEGIN:VEVENT
DTSTART;TZID=America/Detroit:20230312T100000
DTEND;TZID=America/Detroit:20230312T110000
DTSTAMP:20260423T072248
CREATED:20230213T234900Z
LAST-MODIFIED:20230213T234900Z
UID:1774-1678615200-1678618800@cofchristunion.org
SUMMARY:Embody Christ's Peace (Woman at the Well)
DESCRIPTION:Third Sunday in Lent \nJohn 4: 5-42\, Exodus 17: 1-7\, Psalm 95
URL:https://cofchristunion.org/event/embody-christs-peace-woman-at-the-well/
CATEGORIES:Worship Service
END:VEVENT
BEGIN:VEVENT
DTSTART;TZID=America/Detroit:20230319T100000
DTEND;TZID=America/Detroit:20230319T110000
DTSTAMP:20260423T072248
CREATED:20230213T235600Z
LAST-MODIFIED:20230213T235600Z
UID:1777-1679220000-1679223600@cofchristunion.org
SUMMARY:Live in the Light (Jesus heals the blind man)
DESCRIPTION:Fourth Sunday in Lent \nJohn 9: 1-41\, 1 Samuel 16: 1-13\, Psalm 23
URL:https://cofchristunion.org/event/live-in-the-light-jesus-heals-the-blind-man/
CATEGORIES:Worship Service
END:VEVENT
BEGIN:VEVENT
DTSTART;TZID=America/Detroit:20230326T100000
DTEND;TZID=America/Detroit:20230326T110000
DTSTAMP:20260423T072248
CREATED:20230214T000337Z
LAST-MODIFIED:20230214T000337Z
UID:1779-1679824800-1679828400@cofchristunion.org
SUMMARY:Is Christ in you? (Jesus raises Lazarus)
DESCRIPTION:Fifth Sunday in Lent \nJohn 11: 1-45\, Ezekiel 37: 1-14\, Psalm 130\, Mosiah 8 : 28-37
URL:https://cofchristunion.org/event/is-christ-in-you-jesus-raises-lazarus/
CATEGORIES:Worship Service
END:VEVENT
END:VCALENDAR