BEGIN:VCALENDAR
VERSION:2.0
PRODID:-//Community of Christ Union Ave - ECPv6.15.20//NONSGML v1.0//EN
CALSCALE:GREGORIAN
METHOD:PUBLISH
X-WR-CALNAME:Community of Christ Union Ave
X-ORIGINAL-URL:https://cofchristunion.org
X-WR-CALDESC:Events for Community of Christ Union Ave
REFRESH-INTERVAL;VALUE=DURATION:PT1H
X-Robots-Tag:noindex
X-PUBLISHED-TTL:PT1H
BEGIN:VTIMEZONE
TZID:America/Detroit
BEGIN:DAYLIGHT
TZOFFSETFROM:-0500
TZOFFSETTO:-0400
TZNAME:EDT
DTSTART:20220313T070000
END:DAYLIGHT
BEGIN:STANDARD
TZOFFSETFROM:-0400
TZOFFSETTO:-0500
TZNAME:EST
DTSTART:20221106T060000
END:STANDARD
BEGIN:DAYLIGHT
TZOFFSETFROM:-0500
TZOFFSETTO:-0400
TZNAME:EDT
DTSTART:20230312T070000
END:DAYLIGHT
BEGIN:STANDARD
TZOFFSETFROM:-0400
TZOFFSETTO:-0500
TZNAME:EST
DTSTART:20231105T060000
END:STANDARD
BEGIN:DAYLIGHT
TZOFFSETFROM:-0500
TZOFFSETTO:-0400
TZNAME:EDT
DTSTART:20240310T070000
END:DAYLIGHT
BEGIN:STANDARD
TZOFFSETFROM:-0400
TZOFFSETTO:-0500
TZNAME:EST
DTSTART:20241103T060000
END:STANDARD
END:VTIMEZONE
BEGIN:VEVENT
DTSTART;TZID=America/Detroit:20230903T100000
DTEND;TZID=America/Detroit:20230903T110000
DTSTAMP:20260422T222625
CREATED:20230806T010226Z
LAST-MODIFIED:20230806T010226Z
UID:2231-1693735200-1693738800@cofchristunion.org
SUMMARY:Practice Christlike Hospitality
DESCRIPTION:Romans 12: 9-21\, Exodus 3: 1-15\, Psalm 105: 1-6\, 23-26\, 45c Matthew 16: 21 -28\, Doc & Cov 161: 3a \nPreside: Elder Patti Zehr \nPreach: Elder Colin Zehr \nKeyboard: Gwen Koster
URL:https://cofchristunion.org/event/practice-christlike-hospitality/
CATEGORIES:Worship Service
END:VEVENT
BEGIN:VEVENT
DTSTART;TZID=America/Detroit:20230910T100000
DTEND;TZID=America/Detroit:20230910T110000
DTSTAMP:20260422T222625
CREATED:20230806T013011Z
LAST-MODIFIED:20230806T013011Z
UID:2233-1694340000-1694343600@cofchristunion.org
SUMMARY:Love Your Neighbor
DESCRIPTION:Romans 13: 8-14\, Exodus 12: 1-14; Psalm 149\, Matthew 18: 15-20 Mosiah 11: 16\, 152 -156 \nPreside – Elder Don Harvey \nPreach  – Elder Brenda Harvey \nKeyboard – Elder Patti Zehr
URL:https://cofchristunion.org/event/love-your-neighbor/
CATEGORIES:Worship Service
END:VEVENT
BEGIN:VEVENT
DTSTART;TZID=America/Detroit:20230917T100000
DTEND;TZID=America/Detroit:20230917T110000
DTSTAMP:20260422T222625
CREATED:20230806T014207Z
LAST-MODIFIED:20230806T014207Z
UID:2235-1694944800-1694948400@cofchristunion.org
SUMMARY:We Belong to God - Heritage Day
DESCRIPTION:Romans 14: 1-12\, Exodus 14: 19-31\, Psalm 114\, Matthew 18: 21 -35\, Doc & Cov 163: 10 \nPreside: Elder Tim Colthorp \nPreach: Elder Rolly Smith \nKeyboard: Gwen Koster
URL:https://cofchristunion.org/event/we-belong-to-god-heritage-day/
CATEGORIES:Worship Service
END:VEVENT
BEGIN:VEVENT
DTSTART;TZID=America/Detroit:20230924T100000
DTEND;TZID=America/Detroit:20231029T110000
DTSTAMP:20260422T222625
CREATED:20230806T015436Z
LAST-MODIFIED:20230806T015436Z
UID:2237-1695549600-1698577200@cofchristunion.org
SUMMARY:Strive for Oneness
DESCRIPTION:Philippians 1: 21-30\, Exodus 16: 2-15\, Psalm 105: 1-6\, 37-45\, Matthew 20: 1-16\, Doc & Cov 164: 6a \nPreside: Priest Vickie Reynolds \nPreach: Evangelist Bobbi Mier \nKeyboard: Linda Kuhn
URL:https://cofchristunion.org/event/strive-for-oneness/
CATEGORIES:Worship Service
END:VEVENT
BEGIN:VEVENT
DTSTART;TZID=America/Detroit:20230925T110000
DTEND;TZID=America/Detroit:20230925T110000
DTSTAMP:20260422T222625
CREATED:20231007T200622Z
LAST-MODIFIED:20231007T200622Z
UID:2366-1695639600-1695639600@cofchristunion.org
SUMMARY:Go Deeper
DESCRIPTION:Time -After Worship service every Sunday (aproximently 11:AM) \nLocation – Mainly in church basement\, but locations can change – (please review website for any changes) \nFirst Sunday: Focus on “Enduring Principal” \nSecond Sunday: Focus on Going Deeper from worship \nThird Sunday: Focus on Learning & Growing w/ something NEW \nForth Sunday:  Focus on Going Deeper from Worship
URL:https://cofchristunion.org/event/go-deeper-2/
CATEGORIES:Worship Service
END:VEVENT
END:VCALENDAR