BEGIN:VCALENDAR
VERSION:2.0
PRODID:-//Community of Christ Union Ave - ECPv6.15.20//NONSGML v1.0//EN
CALSCALE:GREGORIAN
METHOD:PUBLISH
X-WR-CALNAME:Community of Christ Union Ave
X-ORIGINAL-URL:https://cofchristunion.org
X-WR-CALDESC:Events for Community of Christ Union Ave
REFRESH-INTERVAL;VALUE=DURATION:PT1H
X-Robots-Tag:noindex
X-PUBLISHED-TTL:PT1H
BEGIN:VTIMEZONE
TZID:America/Detroit
BEGIN:DAYLIGHT
TZOFFSETFROM:-0500
TZOFFSETTO:-0400
TZNAME:EDT
DTSTART:20220313T070000
END:DAYLIGHT
BEGIN:STANDARD
TZOFFSETFROM:-0400
TZOFFSETTO:-0500
TZNAME:EST
DTSTART:20221106T060000
END:STANDARD
BEGIN:DAYLIGHT
TZOFFSETFROM:-0500
TZOFFSETTO:-0400
TZNAME:EDT
DTSTART:20230312T070000
END:DAYLIGHT
BEGIN:STANDARD
TZOFFSETFROM:-0400
TZOFFSETTO:-0500
TZNAME:EST
DTSTART:20231105T060000
END:STANDARD
BEGIN:DAYLIGHT
TZOFFSETFROM:-0500
TZOFFSETTO:-0400
TZNAME:EDT
DTSTART:20240310T070000
END:DAYLIGHT
BEGIN:STANDARD
TZOFFSETFROM:-0400
TZOFFSETTO:-0500
TZNAME:EST
DTSTART:20241103T060000
END:STANDARD
END:VTIMEZONE
BEGIN:VEVENT
DTSTART;TZID=America/Detroit:20230924T100000
DTEND;TZID=America/Detroit:20231029T110000
DTSTAMP:20260422T210744
CREATED:20230806T015436Z
LAST-MODIFIED:20230806T015436Z
UID:2237-1695549600-1698577200@cofchristunion.org
SUMMARY:Strive for Oneness
DESCRIPTION:Philippians 1: 21-30\, Exodus 16: 2-15\, Psalm 105: 1-6\, 37-45\, Matthew 20: 1-16\, Doc & Cov 164: 6a \nPreside: Priest Vickie Reynolds \nPreach: Evangelist Bobbi Mier \nKeyboard: Linda Kuhn
URL:https://cofchristunion.org/event/strive-for-oneness/
CATEGORIES:Worship Service
END:VEVENT
BEGIN:VEVENT
DTSTART;TZID=America/Detroit:20231001T100000
DTEND;TZID=America/Detroit:20231001T110000
DTSTAMP:20260422T210744
CREATED:20230830T004324Z
LAST-MODIFIED:20230830T004825Z
UID:2289-1696154400-1696158000@cofchristunion.org
SUMMARY:God is at Work
DESCRIPTION:Phillppians 2: 1-13\, Exodus 17: 1-7\, Psalm 78: 1-4\, 12-16\, Matthew 21: 23-32\, Doc & Cov 164: 4b-c \nPreside: Elder: Tim Colthorp \nPreach: High Priest: Tom Reynolds \nKeyboard: Elder Patti Zehr
URL:https://cofchristunion.org/event/god-is-at-work/
CATEGORIES:Worship Service
END:VEVENT
BEGIN:VEVENT
DTSTART;TZID=America/Detroit:20231008T100000
DTEND;TZID=America/Detroit:20231008T110000
DTSTAMP:20260422T210744
CREATED:20230830T030748Z
LAST-MODIFIED:20230830T030748Z
UID:2300-1696759200-1696762800@cofchristunion.org
SUMMARY:Press On!
DESCRIPTION:Philippians 3: 4b-14\, Exodus 20: 1-4\, 7-9\, 12-20\, Psalm 19\, Matthew 21: 33-46 \nPreside: Elder Judy Rice \nPreach: Evangelist Marvin Rice \nKeyboard: Jill Colthorp
URL:https://cofchristunion.org/event/press-on/
CATEGORIES:Worship Service
END:VEVENT
BEGIN:VEVENT
DTSTART;TZID=America/Detroit:20231015T100000
DTEND;TZID=America/Detroit:20231015T110000
DTSTAMP:20260422T210744
CREATED:20230830T022650Z
LAST-MODIFIED:20230830T022650Z
UID:2293-1697364000-1697367600@cofchristunion.org
SUMMARY:Be What You Believe
DESCRIPTION:Philippians 4: 1-9\, Exodus 32: 1-14\, Psalm 106: 1-6\, 19-23\, Matthew 22: 1-4\, Doc & Cov 164: 9e-f \nPreside: Priest: Dale Sieting \nPreach: Elder Anne Harvey \nKeyboard: Linda Kuhn
URL:https://cofchristunion.org/event/be-what-you-believe/
CATEGORIES:Worship Service
END:VEVENT
BEGIN:VEVENT
DTSTART;TZID=America/Detroit:20231022T100000
DTEND;TZID=America/Detroit:20231022T110000
DTSTAMP:20260422T210744
CREATED:20230830T023901Z
LAST-MODIFIED:20230830T023901Z
UID:2296-1697968800-1697972400@cofchristunion.org
SUMMARY:Make Your Faith Known
DESCRIPTION:1 Thessalonians 1: 1-10\, Exodus 33: 12-23\, Psalm 99\, Matthew 22: 15-22\, Doc & Cov 163: 3a \nPreside: Elder Jim Findley \nPreach: Elder Dick Blair \nKeyboard: Gwen Koster
URL:https://cofchristunion.org/event/make-your-faith-known/
CATEGORIES:Worship Service
END:VEVENT
BEGIN:VEVENT
DTSTART;TZID=America/Detroit:20231029T100000
DTEND;TZID=America/Detroit:20231029T110000
DTSTAMP:20260422T210744
CREATED:20230830T025046Z
LAST-MODIFIED:20231024T154850Z
UID:2298-1698573600-1698577200@cofchristunion.org
SUMMARY:What is Your Gospel Message?
DESCRIPTION:1 Thessalonians 2: 1-8\, Deuteronomy 34: 1-12\, Psalm 90: 1-6\, 13-17\, Matthew 22: 34-46\, Doc & Cov 161: 1b; 165: 2b \nPreside: Elder Patti Findley \nPreach: Elder Patti Zehr \nKeyboard: Jill Colthorp
URL:https://cofchristunion.org/event/what-is-your-gospel-message/
CATEGORIES:Worship Service
END:VEVENT
END:VCALENDAR