BEGIN:VCALENDAR
VERSION:2.0
PRODID:-//Community of Christ Union Ave - ECPv6.15.20//NONSGML v1.0//EN
CALSCALE:GREGORIAN
METHOD:PUBLISH
X-ORIGINAL-URL:https://cofchristunion.org
X-WR-CALDESC:Events for Community of Christ Union Ave
REFRESH-INTERVAL;VALUE=DURATION:PT1H
X-Robots-Tag:noindex
X-PUBLISHED-TTL:PT1H
BEGIN:VTIMEZONE
TZID:America/Detroit
BEGIN:DAYLIGHT
TZOFFSETFROM:-0500
TZOFFSETTO:-0400
TZNAME:EDT
DTSTART:20230312T070000
END:DAYLIGHT
BEGIN:STANDARD
TZOFFSETFROM:-0400
TZOFFSETTO:-0500
TZNAME:EST
DTSTART:20231105T060000
END:STANDARD
BEGIN:DAYLIGHT
TZOFFSETFROM:-0500
TZOFFSETTO:-0400
TZNAME:EDT
DTSTART:20240310T070000
END:DAYLIGHT
BEGIN:STANDARD
TZOFFSETFROM:-0400
TZOFFSETTO:-0500
TZNAME:EST
DTSTART:20241103T060000
END:STANDARD
BEGIN:DAYLIGHT
TZOFFSETFROM:-0500
TZOFFSETTO:-0400
TZNAME:EDT
DTSTART:20250309T070000
END:DAYLIGHT
BEGIN:STANDARD
TZOFFSETFROM:-0400
TZOFFSETTO:-0500
TZNAME:EST
DTSTART:20251102T060000
END:STANDARD
END:VTIMEZONE
BEGIN:VEVENT
DTSTART;TZID=America/Detroit:20241006T100000
DTEND;TZID=America/Detroit:20241006T110000
DTSTAMP:20260420T053934
CREATED:20241001T013055Z
LAST-MODIFIED:20241001T013055Z
UID:3744-1728208800-1728212400@cofchristunion.org
SUMMARY:Sacrament of the Lord's Supper
DESCRIPTION:Preside: Elder Tim Colthorp \nPreach: Elder Don Harvey \nTech: Elder Anne Harvey \nKeyboard: Jill Colthorp \nServers: Colin\, Patti\, Bobbi\, Brenda
URL:https://cofchristunion.org/event/sacrament-of-the-lords-supper/
CATEGORIES:Worship Service
END:VEVENT
BEGIN:VEVENT
DTSTART;TZID=America/Detroit:20241013T100000
DTEND;TZID=America/Detroit:20241013T110000
DTSTAMP:20260420T053934
CREATED:20241001T014620Z
LAST-MODIFIED:20241001T014620Z
UID:3748-1728813600-1728817200@cofchristunion.org
SUMMARY:Practice Bold Discipleship
DESCRIPTION:Mark 10: 17-31\, Job 23: 1-9\, 16-17; Psalm 22: 1-15 Doc & Cov 164:9a \nPreside: Elder Patti Findley \nPreach: Elder Patti Zehr \nTech: Elder Rolly Smith \nKeyboard: Gwen Koster
URL:https://cofchristunion.org/event/practice-bold-discipleship/
CATEGORIES:Worship Service
END:VEVENT
BEGIN:VEVENT
DTSTART;TZID=America/Detroit:20241020T100000
DTEND;TZID=America/Detroit:20241020T110000
DTSTAMP:20260420T053934
CREATED:20241001T020321Z
LAST-MODIFIED:20241001T020321Z
UID:3752-1729418400-1729422000@cofchristunion.org
SUMMARY:Can You Drink The Cup?
DESCRIPTION:Mark 10: 35-45\, Job 38: 1-7\, 34-41\, Psalm 104: 1-9\, 24\, 35c; Hebrews 5: 1-10\, Doc & Cov 165: 2a \nPreside: Elder Dick Blair \nPreach: Tim Ross \nTech: Larry Steiner \nKeyboard: Patti Zehr
URL:https://cofchristunion.org/event/can-you-drink-the-cup/
CATEGORIES:Worship Service
END:VEVENT
BEGIN:VEVENT
DTSTART;TZID=America/Detroit:20241027T100000
DTEND;TZID=America/Detroit:20241027T110000
DTSTAMP:20260420T053934
CREATED:20241001T220046Z
LAST-MODIFIED:20241001T220046Z
UID:3756-1730023200-1730026800@cofchristunion.org
SUMMARY:Heal Our Blindness
DESCRIPTION:Mark 10: 46-52/10: 46-54 IV\, Job 42: 1-6\, 10-17; Psalm 34: 1-8\, 19-22\, Hebrews 7: 23-28; Doc & Cov 163:4a \nPreside: Elder Anne Harvey \nPreach: High Priest Tom Reynolds \nTech: Elder Anne Harvey \nKeyboard: Jill Colthorp
URL:https://cofchristunion.org/event/heal-our-blindness/
CATEGORIES:Worship Service
END:VEVENT
END:VCALENDAR