BEGIN:VCALENDAR
VERSION:2.0
PRODID:-//Community of Christ Union Ave - ECPv6.15.20//NONSGML v1.0//EN
CALSCALE:GREGORIAN
METHOD:PUBLISH
X-ORIGINAL-URL:https://cofchristunion.org
X-WR-CALDESC:Events for Community of Christ Union Ave
REFRESH-INTERVAL;VALUE=DURATION:PT1H
X-Robots-Tag:noindex
X-PUBLISHED-TTL:PT1H
BEGIN:VTIMEZONE
TZID:America/Detroit
BEGIN:DAYLIGHT
TZOFFSETFROM:-0500
TZOFFSETTO:-0400
TZNAME:EDT
DTSTART:20230312T070000
END:DAYLIGHT
BEGIN:STANDARD
TZOFFSETFROM:-0400
TZOFFSETTO:-0500
TZNAME:EST
DTSTART:20231105T060000
END:STANDARD
BEGIN:DAYLIGHT
TZOFFSETFROM:-0500
TZOFFSETTO:-0400
TZNAME:EDT
DTSTART:20240310T070000
END:DAYLIGHT
BEGIN:STANDARD
TZOFFSETFROM:-0400
TZOFFSETTO:-0500
TZNAME:EST
DTSTART:20241103T060000
END:STANDARD
BEGIN:DAYLIGHT
TZOFFSETFROM:-0500
TZOFFSETTO:-0400
TZNAME:EDT
DTSTART:20250309T070000
END:DAYLIGHT
BEGIN:STANDARD
TZOFFSETFROM:-0400
TZOFFSETTO:-0500
TZNAME:EST
DTSTART:20251102T060000
END:STANDARD
END:VTIMEZONE
BEGIN:VEVENT
DTSTART;TZID=America/Detroit:20241201T100000
DTEND;TZID=America/Detroit:20241201T110000
DTSTAMP:20260420T022646
CREATED:20241110T192240Z
LAST-MODIFIED:20241112T011751Z
UID:3883-1733047200-1733050800@cofchristunion.org
SUMMARY:Joy Overflows
DESCRIPTION:First Sunday of Advent \nLuke 1: 26-38 \nPreside: Elder Tim Colthorp \nPreach: Elder Colin Zehr \nCommunion Assisters: Colin\, Marvin\, Judy\, Dick \nKeyboard: Linda Kuhn
URL:https://cofchristunion.org/event/joy-overflows/
CATEGORIES:Worship Service
END:VEVENT
BEGIN:VEVENT
DTSTART;TZID=America/Detroit:20241201T100000
DTEND;TZID=America/Detroit:20241201T110000
DTSTAMP:20260420T022646
CREATED:20241125T140350Z
LAST-MODIFIED:20241125T140350Z
UID:3939-1733047200-1733050800@cofchristunion.org
SUMMARY:Joy Overflows
DESCRIPTION:First Sunday of Advent \nLuke 1: 26-38 \nPreside:  Elder Tim Colthorp \nPreach: Patti \nKeyboard: Linda Kuhn \nCommunion Assisters: Colin\, Marvin\, Judy\, Dick
URL:https://cofchristunion.org/event/joy-overflows-2/
CATEGORIES:Worship Service
END:VEVENT
BEGIN:VEVENT
DTSTART;TZID=America/Detroit:20241208T100000
DTEND;TZID=America/Detroit:20241208T110000
DTSTAMP:20260420T022646
CREATED:20241110T193517Z
LAST-MODIFIED:20241110T193517Z
UID:3887-1733652000-1733655600@cofchristunion.org
SUMMARY:Love Overflows
DESCRIPTION:Second Sunday of Advent \nLuke 1: 39-45 \nPreside: Elder Don Harvey \nPreach: Priest Brenda Harvey \nKeyboard: Jill Colthorp
URL:https://cofchristunion.org/event/love-overflows/
CATEGORIES:Worship Service
END:VEVENT
BEGIN:VEVENT
DTSTART;TZID=America/Detroit:20241208T100000
DTEND;TZID=America/Detroit:20241208T110000
DTSTAMP:20260420T022646
CREATED:20241125T141636Z
LAST-MODIFIED:20241125T141636Z
UID:3943-1733652000-1733655600@cofchristunion.org
SUMMARY:Love Overflows
DESCRIPTION:Second Sunday of Advent \nLuke:1: 39-45 \nPreside: Elder Don Harvey \nPreach: Priest Brenda Harvey \nKeyboard: Jill Colthorp \n 
URL:https://cofchristunion.org/event/love-overflows-2/
CATEGORIES:Worship Service
END:VEVENT
BEGIN:VEVENT
DTSTART;TZID=America/Detroit:20241215T100000
DTEND;TZID=America/Detroit:20241215T110000
DTSTAMP:20260420T022646
CREATED:20241110T194819Z
LAST-MODIFIED:20241110T194819Z
UID:3891-1734256800-1734260400@cofchristunion.org
SUMMARY:Hope Overflows
DESCRIPTION:Third Sunday of Advent \nMatthew 1: 18-25 \nPreside: Priest Dale Sieting \nPriest: Evangelist Bobbi Mier \nKeyboard: Elder Patti Zehr
URL:https://cofchristunion.org/event/hope-overflows/
CATEGORIES:Worship Service
END:VEVENT
BEGIN:VEVENT
DTSTART;TZID=America/Detroit:20241215T100000
DTEND;TZID=America/Detroit:20241215T110000
DTSTAMP:20260420T022646
CREATED:20241125T142756Z
LAST-MODIFIED:20241125T142756Z
UID:3947-1734256800-1734260400@cofchristunion.org
SUMMARY:Hope Overflows
DESCRIPTION:Third Sunday of Advent \nMatthew 1: 18-25 \nPreside: Priest Dale Sieting \nPreach: Evangelist Bobbi Mier \nKeyboard: Elder Patti Zehr
URL:https://cofchristunion.org/event/hope-overflows-2/
CATEGORIES:Worship Service
END:VEVENT
BEGIN:VEVENT
DTSTART;TZID=America/Detroit:20241222T100000
DTEND;TZID=America/Detroit:20241222T110000
DTSTAMP:20260420T022646
CREATED:20241110T200746Z
LAST-MODIFIED:20241110T200746Z
UID:3895-1734861600-1734865200@cofchristunion.org
SUMMARY:Peace Overflows
DESCRIPTION:Fourth Sunday of Advent \nLuke 2: 1-12 \nPreside: Priest Vickie Reynolds \nPreach: High Priest Tom Reynolds \nKeyboard: Gwen Koster
URL:https://cofchristunion.org/event/peace-overflows/
CATEGORIES:Worship Service
END:VEVENT
BEGIN:VEVENT
DTSTART;TZID=America/Detroit:20241222T100000
DTEND;TZID=America/Detroit:20241222T110000
DTSTAMP:20260420T022646
CREATED:20241125T143837Z
LAST-MODIFIED:20241125T143837Z
UID:3951-1734861600-1734865200@cofchristunion.org
SUMMARY:Peace Overflows
DESCRIPTION:Fourth Sunday of Advent \nLuke 2: 1-12 \nPreside: Priest Vickie Reynolds \nPreach: High Priest: Tom Reynolds \nKeyboard: Gwen Koster
URL:https://cofchristunion.org/event/peace-overflows-2/
CATEGORIES:Worship Service
END:VEVENT
BEGIN:VEVENT
DTSTART;TZID=America/Detroit:20241229T100000
DTEND;TZID=America/Detroit:20241229T110000
DTSTAMP:20260420T022646
CREATED:20241226T021641Z
LAST-MODIFIED:20241226T021943Z
UID:4016-1735466400-1735470000@cofchristunion.org
SUMMARY:Good News of Great Joy
DESCRIPTION:First Sunday After Christmas \nLuke 2:13-19 \nPresiding: Patti Findley \nPreaching: Patti Zehr \n 
URL:https://cofchristunion.org/event/good-news-of-great-joy/
CATEGORIES:Worship Service
END:VEVENT
END:VCALENDAR