BEGIN:VCALENDAR
VERSION:2.0
PRODID:-//Community of Christ Union Ave - ECPv6.15.20//NONSGML v1.0//EN
CALSCALE:GREGORIAN
METHOD:PUBLISH
X-ORIGINAL-URL:https://cofchristunion.org
X-WR-CALDESC:Events for Community of Christ Union Ave
REFRESH-INTERVAL;VALUE=DURATION:PT1H
X-Robots-Tag:noindex
X-PUBLISHED-TTL:PT1H
BEGIN:VTIMEZONE
TZID:America/Detroit
BEGIN:DAYLIGHT
TZOFFSETFROM:-0500
TZOFFSETTO:-0400
TZNAME:EDT
DTSTART:20240310T070000
END:DAYLIGHT
BEGIN:STANDARD
TZOFFSETFROM:-0400
TZOFFSETTO:-0500
TZNAME:EST
DTSTART:20241103T060000
END:STANDARD
BEGIN:DAYLIGHT
TZOFFSETFROM:-0500
TZOFFSETTO:-0400
TZNAME:EDT
DTSTART:20250309T070000
END:DAYLIGHT
BEGIN:STANDARD
TZOFFSETFROM:-0400
TZOFFSETTO:-0500
TZNAME:EST
DTSTART:20251102T060000
END:STANDARD
BEGIN:DAYLIGHT
TZOFFSETFROM:-0500
TZOFFSETTO:-0400
TZNAME:EDT
DTSTART:20260308T070000
END:DAYLIGHT
BEGIN:STANDARD
TZOFFSETFROM:-0400
TZOFFSETTO:-0500
TZNAME:EST
DTSTART:20261101T060000
END:STANDARD
END:VTIMEZONE
BEGIN:VEVENT
DTSTART;TZID=America/Detroit:20250302T100000
DTEND;TZID=America/Detroit:20250302T110000
DTSTAMP:20260419T205745
CREATED:20250205T012513Z
LAST-MODIFIED:20250205T012513Z
UID:4234-1740909600-1740913200@cofchristunion.org
SUMMARY:Seek Spiritual Freedom
DESCRIPTION:Last Sunday After Epiphany \n2 Corinthians 3: 12-4: 2\, Exodus 34: 29-35; Psalm 99; Luke 9: 28-43a; Doc & Cov 162: 7d \nPreside: Elder Tim Colthorp \nPreach: Elder Dick Blair \nTech: Elder Rolly Smith \nKeyboard: Jill Colthorp \nServers: Colin\, Patti\, Darla\, Don
URL:https://cofchristunion.org/event/seek-spiritual-freedom/
CATEGORIES:Worship Service
END:VEVENT
BEGIN:VEVENT
DTSTART;TZID=America/Detroit:20250309T100000
DTEND;TZID=America/Detroit:20250309T110000
DTSTAMP:20260419T205745
CREATED:20250205T014131Z
LAST-MODIFIED:20250221T144229Z
UID:4238-1741514400-1741518000@cofchristunion.org
SUMMARY:Guided by the Spirit
DESCRIPTION:First Sunday In Lent \nRomans 10: 8b-13\, Luke 4: 1-12\, Deuteronomy 26: 1-11; Psalm 91: 1-2\, 9-16; Alma 16: 153-154; Doc & Cov 163: 2b-c \nPreside: Elder Judy Rice \nPreach: Evangelist Marvin Rice \nTech: Elder Anne Harvey \nKeyboard: Linda Kuhn
URL:https://cofchristunion.org/event/believe-with-our-hearts/
CATEGORIES:Worship Service
END:VEVENT
BEGIN:VEVENT
DTSTART;TZID=America/Detroit:20250316T100000
DTEND;TZID=America/Detroit:20250316T110000
DTSTAMP:20260419T205745
CREATED:20250205T015551Z
LAST-MODIFIED:20250309T234919Z
UID:4242-1742119200-1742122800@cofchristunion.org
SUMMARY:Stand Firm in The Lord
DESCRIPTION:Second Sunday in Lent \nPhilippians 3: 17-4:1\, Luke 13: 31-35\, Psalm 27; Genesis 15: 1-12\, 17-18; Doc& Cov 164:9d-f \nPreside: Elder Patti Zehr \nPreach: Elder Colin Zehr \nTech: Elder Rolly Smith \nKeyboard: Gwen Koster
URL:https://cofchristunion.org/event/stand-firm-in-the-lord/
CATEGORIES:Worship Service
END:VEVENT
BEGIN:VEVENT
DTSTART;TZID=America/Detroit:20250323T100000
DTEND;TZID=America/Detroit:20250323T110000
DTSTAMP:20260419T205745
CREATED:20250218T131936Z
LAST-MODIFIED:20250218T131936Z
UID:4273-1742724000-1742727600@cofchristunion.org
SUMMARY:When We Are Tested
DESCRIPTION:Third Sunday in Lent \n1 Corinthians 10: 1-13\, Luke 13: 1-9\, Psalm 63: 1-8\, Isaiah 55: 1-9\, Alma 17: 25-28; Doc & Cov 77: 4a-4c \nPreside: High Priest Tom Reynolds \nPreach: Apostle Lach MacKay \nTech: Elder Anne Harvey \nKeyboard: Elder Patti Zehr
URL:https://cofchristunion.org/event/when-we-are-tested-2/
CATEGORIES:Worship Service
END:VEVENT
BEGIN:VEVENT
DTSTART;TZID=America/Detroit:20250330T100000
DTEND;TZID=America/Detroit:20250330T110000
DTSTAMP:20260419T205745
CREATED:20250218T133540Z
LAST-MODIFIED:20250218T133540Z
UID:4277-1743328800-1743332400@cofchristunion.org
SUMMARY:Be Reconciled to God
DESCRIPTION:Fourth Sunday in Lent \n2 Corinthians 5: 16-21\, Luke 15: 1-3\, 11b-32\, Joshua 5: 9-12; Psalm 32\, 11b-32; Enos 1: 3-12; Doc&Cov 16: 3c-e \nPreside: Priest Dale Sieting \nPreach: Elder Rolly Smith \nTech: Larry Steiner \nKeyboard: Linda Kuhn
URL:https://cofchristunion.org/event/be-reconciled-to-god/
CATEGORIES:Worship Service
END:VEVENT
END:VCALENDAR