BEGIN:VCALENDAR
VERSION:2.0
PRODID:-//Community of Christ Union Ave - ECPv6.15.20//NONSGML v1.0//EN
CALSCALE:GREGORIAN
METHOD:PUBLISH
X-WR-CALNAME:Community of Christ Union Ave
X-ORIGINAL-URL:https://cofchristunion.org
X-WR-CALDESC:Events for Community of Christ Union Ave
REFRESH-INTERVAL;VALUE=DURATION:PT1H
X-Robots-Tag:noindex
X-PUBLISHED-TTL:PT1H
BEGIN:VTIMEZONE
TZID:America/Detroit
BEGIN:DAYLIGHT
TZOFFSETFROM:-0500
TZOFFSETTO:-0400
TZNAME:EDT
DTSTART:20240310T070000
END:DAYLIGHT
BEGIN:STANDARD
TZOFFSETFROM:-0400
TZOFFSETTO:-0500
TZNAME:EST
DTSTART:20241103T060000
END:STANDARD
BEGIN:DAYLIGHT
TZOFFSETFROM:-0500
TZOFFSETTO:-0400
TZNAME:EDT
DTSTART:20250309T070000
END:DAYLIGHT
BEGIN:STANDARD
TZOFFSETFROM:-0400
TZOFFSETTO:-0500
TZNAME:EST
DTSTART:20251102T060000
END:STANDARD
BEGIN:DAYLIGHT
TZOFFSETFROM:-0500
TZOFFSETTO:-0400
TZNAME:EDT
DTSTART:20260308T070000
END:DAYLIGHT
BEGIN:STANDARD
TZOFFSETFROM:-0400
TZOFFSETTO:-0500
TZNAME:EST
DTSTART:20261101T060000
END:STANDARD
END:VTIMEZONE
BEGIN:VEVENT
DTSTART;TZID=America/Detroit:20251005T100000
DTEND;TZID=America/Detroit:20251005T110000
DTSTAMP:20260419T091701
CREATED:20250918T161845Z
LAST-MODIFIED:20250918T161922Z
UID:5041-1759658400-1759662000@cofchristunion.org
SUMMARY:Rekindle God's Gift Within You
DESCRIPTION:2 Timothy 1: 1-14\, Lamentations 1: 1-6\, Psalm 137\, Luke 17: 5-10\, Doc & Cov 17: 22a; 165:2a \nPreside: Elder Tim Colthorp \nPreach: Doug Gregory \nKeyboard: Jill Colthorp \nServers:  Don\, Brenda\, Colin\, Patti
URL:https://cofchristunion.org/event/rekindle-gods-gift-within-you/
CATEGORIES:Worship Service
END:VEVENT
BEGIN:VEVENT
DTSTART;TZID=America/Detroit:20251012T100000
DTEND;TZID=America/Detroit:20251012T110000
DTSTAMP:20260419T091701
CREATED:20250919T191711Z
LAST-MODIFIED:20250919T191711Z
UID:5051-1760263200-1760266800@cofchristunion.org
SUMMARY:Sermon on the Mount
DESCRIPTION:Matthew 5: 13-16 \nPreside: Priest Vickie Reynolds \nPreach: High Priest Tom Reynolds \nKeyboard: Gwen Koster
URL:https://cofchristunion.org/event/sermon-on-the-mount/
CATEGORIES:Worship Service
END:VEVENT
BEGIN:VEVENT
DTSTART;TZID=America/Detroit:20251019T100000
DTEND;TZID=America/Detroit:20251019T110000
DTSTAMP:20260419T091701
CREATED:20250919T192622Z
LAST-MODIFIED:20250919T192622Z
UID:5055-1760868000-1760871600@cofchristunion.org
SUMMARY:Sermon on the Mount
DESCRIPTION:Matthew 5: 21-26 \nPreside: Priest Brenda Harvey \nPreach: High Priest Tom Reynolds \nKeyboard: Linda Kuhn
URL:https://cofchristunion.org/event/sermon-on-the-mount-3/
CATEGORIES:Worship Service
END:VEVENT
BEGIN:VEVENT
DTSTART;TZID=America/Detroit:20251026T100000
DTEND;TZID=America/Detroit:20251026T110000
DTSTAMP:20260419T091701
CREATED:20250919T193313Z
LAST-MODIFIED:20250919T193313Z
UID:5057-1761472800-1761476400@cofchristunion.org
SUMMARY:Sermon on the Mount
DESCRIPTION:Matthew 5: 38-42 \nPreside Elder Patti Zehr \nPreach: Evangelist Bobbi Mier \nKeyboard: Jill Colthorp
URL:https://cofchristunion.org/event/sermon-on-the-mount-4/
CATEGORIES:Worship Service
END:VEVENT
END:VCALENDAR