BEGIN:VCALENDAR
VERSION:2.0
PRODID:-//Community of Christ Union Ave - ECPv6.15.20//NONSGML v1.0//EN
CALSCALE:GREGORIAN
METHOD:PUBLISH
X-WR-CALNAME:Community of Christ Union Ave
X-ORIGINAL-URL:https://cofchristunion.org
X-WR-CALDESC:Events for Community of Christ Union Ave
REFRESH-INTERVAL;VALUE=DURATION:PT1H
X-Robots-Tag:noindex
X-PUBLISHED-TTL:PT1H
BEGIN:VTIMEZONE
TZID:America/Detroit
BEGIN:DAYLIGHT
TZOFFSETFROM:-0500
TZOFFSETTO:-0400
TZNAME:EDT
DTSTART:20220313T070000
END:DAYLIGHT
BEGIN:STANDARD
TZOFFSETFROM:-0400
TZOFFSETTO:-0500
TZNAME:EST
DTSTART:20221106T060000
END:STANDARD
BEGIN:DAYLIGHT
TZOFFSETFROM:-0500
TZOFFSETTO:-0400
TZNAME:EDT
DTSTART:20230312T070000
END:DAYLIGHT
BEGIN:STANDARD
TZOFFSETFROM:-0400
TZOFFSETTO:-0500
TZNAME:EST
DTSTART:20231105T060000
END:STANDARD
BEGIN:DAYLIGHT
TZOFFSETFROM:-0500
TZOFFSETTO:-0400
TZNAME:EDT
DTSTART:20240310T070000
END:DAYLIGHT
BEGIN:STANDARD
TZOFFSETFROM:-0400
TZOFFSETTO:-0500
TZNAME:EST
DTSTART:20241103T060000
END:STANDARD
END:VTIMEZONE
BEGIN:VEVENT
DTSTART;TZID=America/Detroit:20230312T110500
DTEND;TZID=America/Detroit:20230312T120000
DTSTAMP:20260419T171027
CREATED:20230214T003128Z
LAST-MODIFIED:20230214T003128Z
UID:1788-1678619100-1678622400@cofchristunion.org
SUMMARY:What are John's writings from 4: 42 to 9: 1
DESCRIPTION:John 4: 5-42
URL:https://cofchristunion.org/event/what-are-johns-writings-from-4-42-to-9-1/
CATEGORIES:Going Deeper
END:VEVENT
BEGIN:VEVENT
DTSTART;TZID=America/Detroit:20230312T100000
DTEND;TZID=America/Detroit:20230312T110000
DTSTAMP:20260419T171027
CREATED:20230213T234900Z
LAST-MODIFIED:20230213T234900Z
UID:1774-1678615200-1678618800@cofchristunion.org
SUMMARY:Embody Christ's Peace (Woman at the Well)
DESCRIPTION:Third Sunday in Lent \nJohn 4: 5-42\, Exodus 17: 1-7\, Psalm 95
URL:https://cofchristunion.org/event/embody-christs-peace-woman-at-the-well/
CATEGORIES:Worship Service
END:VEVENT
BEGIN:VEVENT
DTSTART;TZID=America/Detroit:20230308T180000
DTEND;TZID=America/Detroit:20230308T184500
DTSTAMP:20260419T171027
CREATED:20230207T132609Z
LAST-MODIFIED:20230216T232110Z
UID:1717-1678298400-1678301100@cofchristunion.org
SUMMARY:Lenten Prayer and Reflections
DESCRIPTION:
URL:https://cofchristunion.org/event/lent-prayer-and-reflections-2/
CATEGORIES:Prayer Service
END:VEVENT
BEGIN:VEVENT
DTSTART;TZID=America/Detroit:20230305T110500
DTEND;TZID=America/Detroit:20230305T120000
DTSTAMP:20260419T171027
CREATED:20230214T002017Z
LAST-MODIFIED:20230214T002604Z
UID:1785-1678014300-1678017600@cofchristunion.org
SUMMARY:What are John's writing from 3:17 to 4: 5
DESCRIPTION:John 3: 1-17
URL:https://cofchristunion.org/event/what-are-johns-writing-from-317-to-415/
CATEGORIES:Going Deeper
END:VEVENT
BEGIN:VEVENT
DTSTART;TZID=America/Detroit:20230305T100000
DTEND;TZID=America/Detroit:20230305T110000
DTSTAMP:20260419T171027
CREATED:20230213T234128Z
LAST-MODIFIED:20230213T234128Z
UID:1769-1678010400-1678014000@cofchristunion.org
SUMMARY:Explore Your Faith (Nicodemus)
DESCRIPTION:Second Sunday in Lent \nJohn 3: 1-17\, Genesis 12: 1-4a\, Psalm 121\, D&C 95: 1a \n 
URL:https://cofchristunion.org/event/explore-your-faith-nicodemus/
CATEGORIES:Worship Service
END:VEVENT
BEGIN:VEVENT
DTSTART;TZID=America/Detroit:20230301T180000
DTEND;TZID=America/Detroit:20230301T184500
DTSTAMP:20260419T171027
CREATED:20230207T132128Z
LAST-MODIFIED:20230216T232218Z
UID:1715-1677693600-1677696300@cofchristunion.org
SUMMARY:Lenten Prayer and Reflections
DESCRIPTION:
URL:https://cofchristunion.org/event/lent-prayer-and-reflections/
CATEGORIES:Prayer Service
END:VEVENT
BEGIN:VEVENT
DTSTART;TZID=America/Detroit:20230226T100000
DTEND;TZID=America/Detroit:20230226T110000
DTSTAMP:20260419T171027
CREATED:20230108T022654Z
LAST-MODIFIED:20230222T190323Z
UID:1566-1677405600-1677409200@cofchristunion.org
SUMMARY:Worship
DESCRIPTION:First Sunday in Lent \nMatthew 4: 1-11\, Genesis 2: 15-17\, Psalm 32\, Romans 5: 12-19
URL:https://cofchristunion.org/event/worship-8/
CATEGORIES:Worship Service
END:VEVENT
BEGIN:VEVENT
DTSTART;TZID=America/Detroit:20230225T130000
DTEND;TZID=America/Detroit:20230225T150000
DTSTAMP:20260419T171027
CREATED:20230130T013555Z
LAST-MODIFIED:20230130T015635Z
UID:1653-1677330000-1677337200@cofchristunion.org
SUMMARY:Winterfest '23
DESCRIPTION:Winterfest ’23\, an event for winter fun. A time for the community to gather and experience the sled dogs\, enjoy refreshments\, and have some winter fun. Watch a demonstration of how the sled dog team work! Enjoy the hot chocolate.
URL:https://cofchristunion.org/event/event-for-winter-fun/
CATEGORIES:Service Projects
END:VEVENT
BEGIN:VEVENT
DTSTART;TZID=America/Detroit:20230222T190000
DTEND;TZID=America/Detroit:20230222T200000
DTSTAMP:20260419T171027
CREATED:20230207T135827Z
LAST-MODIFIED:20230222T191739Z
UID:1733-1677092400-1677096000@cofchristunion.org
SUMMARY:Ash Wednesday Service - Cancelled due to icy road conditions
DESCRIPTION:
URL:https://cofchristunion.org/event/ash-wednesday-service/
CATEGORIES:Prayer Service
END:VEVENT
BEGIN:VEVENT
DTSTART;TZID=America/Detroit:20230219T160000
DTEND;TZID=America/Detroit:20230219T190000
DTSTAMP:20260419T171027
CREATED:20230130T032207Z
LAST-MODIFIED:20230205T230036Z
UID:1662-1676822400-1676833200@cofchristunion.org
SUMMARY:Harvey Fundraiser - Spaghetti Dinner
DESCRIPTION:Fundraiser to provide support for medical expenses for the daughter of Don and Brenda Harvey who has cancer.
URL:https://cofchristunion.org/event/spaghetti-dinner/
CATEGORIES:Outside Group
END:VEVENT
BEGIN:VEVENT
DTSTART;TZID=America/Detroit:20230219T100000
DTEND;TZID=America/Detroit:20230219T110000
DTSTAMP:20260419T171027
CREATED:20230108T021902Z
LAST-MODIFIED:20230216T232555Z
UID:1564-1676800800-1676804400@cofchristunion.org
SUMMARY:Worship: "Where is God Calling Us?"
DESCRIPTION:Pastor’s Address
URL:https://cofchristunion.org/event/worship-7/
CATEGORIES:Worship Service
END:VEVENT
BEGIN:VEVENT
DTSTART;TZID=America/Detroit:20230212T100000
DTEND;TZID=America/Detroit:20230212T110000
DTSTAMP:20260419T171027
CREATED:20230108T021204Z
LAST-MODIFIED:20230108T021204Z
UID:1562-1676196000-1676199600@cofchristunion.org
SUMMARY:Worship
DESCRIPTION:Plant\, Water\, and Grow \n1 Corinthians 3: 1-9\, Deuteronomy 30: 15-20\, Psalm 119: 1-8\, Matthew 5: 21-37
URL:https://cofchristunion.org/event/worship-6/
CATEGORIES:Worship Service
END:VEVENT
BEGIN:VEVENT
DTSTART;TZID=America/Detroit:20230211T140000
DTEND;TZID=America/Detroit:20230211T150000
DTSTAMP:20260419T171027
CREATED:20230120T014242Z
LAST-MODIFIED:20230120T014401Z
UID:1597-1676124000-1676127600@cofchristunion.org
SUMMARY:Working with Dementia in the Family
DESCRIPTION:Lisa Schiltuis\, Co-Partner\nAllyssa Zehr Co-Partner\nWorking with Dementia can be difficult. If you have a family member with dementia then this workshop will be helpful. You will leave with a number of activities that will help engage family members with dementia. \n  \nLed by GrandMinds LLC \nCo-Partners Lisa Schiltuis and Alyssa Zehr \nRegistration requested but not required.
URL:https://cofchristunion.org/event/working-with-dementia/
CATEGORIES:Justice 2 Peace
END:VEVENT
BEGIN:VEVENT
DTSTART;TZID=America/Detroit:20230205T110500
DTEND;TZID=America/Detroit:20230205T120000
DTSTAMP:20260419T171027
CREATED:20230213T220606Z
LAST-MODIFIED:20230213T220606Z
UID:1751-1675595100-1675598400@cofchristunion.org
SUMMARY:Go Deeper Focus
DESCRIPTION:1 Corinthians 2: 1-16
URL:https://cofchristunion.org/event/go-deeper-focus/
CATEGORIES:Going Deeper
END:VEVENT
BEGIN:VEVENT
DTSTART;TZID=America/Detroit:20230205T100000
DTEND;TZID=America/Detroit:20230205T110000
DTSTAMP:20260419T171027
CREATED:20230108T020123Z
LAST-MODIFIED:20230108T020123Z
UID:1560-1675591200-1675594800@cofchristunion.org
SUMMARY:Worship
DESCRIPTION:Formed in the Spirit \n1 Corinthians 2: 1-16\, Isaiah 58: 1-12\, Psalms 112: 1-10\, Matthew 5: 13-20
URL:https://cofchristunion.org/event/worship-5/
CATEGORIES:Worship Service
END:VEVENT
BEGIN:VEVENT
DTSTART;TZID=America/Detroit:20230205T090000
DTEND;TZID=America/Detroit:20230205T094500
DTSTAMP:20260419T171027
CREATED:20230129T001923Z
LAST-MODIFIED:20230129T001923Z
UID:1648-1675587600-1675590300@cofchristunion.org
SUMMARY:Prayer Service
DESCRIPTION:Pray for Communion & Peace
URL:https://cofchristunion.org/event/prayer-service-3/
CATEGORIES:Prayer Service
END:VEVENT
BEGIN:VEVENT
DTSTART;TZID=America/Detroit:20230129T110000
DTEND;TZID=America/Detroit:20230129T120000
DTSTAMP:20260419T171027
CREATED:20230124T194517Z
LAST-MODIFIED:20230125T182510Z
UID:1615-1674990000-1674993600@cofchristunion.org
SUMMARY:Go Deeper
DESCRIPTION:Reviewing the Website
URL:https://cofchristunion.org/event/go-deeper/
CATEGORIES:Going Deeper
END:VEVENT
BEGIN:VEVENT
DTSTART;TZID=America/Detroit:20230129T100000
DTEND;TZID=America/Detroit:20230129T110000
DTSTAMP:20260419T171027
CREATED:20230104T161619Z
LAST-MODIFIED:20230104T161619Z
UID:1375-1674986400-1674990000@cofchristunion.org
SUMMARY:Worship
DESCRIPTION:The Baptism of Jesus \nMatthew 3: 13-17
URL:https://cofchristunion.org/event/worship-3/
LOCATION:Sanctuary\, 2140 Union Ave\, Grand Rapids\, MI\, United States
CATEGORIES:Worship Service
END:VEVENT
BEGIN:VEVENT
DTSTART;VALUE=DATE:20230129
DTEND;VALUE=DATE:20230212
DTSTAMP:20260419T171027
CREATED:20230131T231206Z
LAST-MODIFIED:20230131T231206Z
UID:1669-1674950400-1676159999@cofchristunion.org
SUMMARY:Candy for Brookside
DESCRIPTION:They have have a program where students set goals for learning and behavior with their resource teacher\, if the students meet their goals they are rewarded by picking out a piece of candy from their teacher\, the candy is not part of the brookside budget\,  so they are asking help from Union Avenue\, they would like bags of the small size (like Halloween treats) of chocolate such as KitKat\, Reese’s Peanut Butter cups\, M&M’s and non chocolate such as skittles \nBring the candy to church and Rice’s will see that they are delivered to Brookside school.
URL:https://cofchristunion.org/event/candy-for-brookside/
CATEGORIES:Brookside School
END:VEVENT
BEGIN:VEVENT
DTSTART;VALUE=DATE:20230129
DTEND;VALUE=DATE:20230205
DTSTAMP:20260419T171027
CREATED:20230124T165622Z
LAST-MODIFIED:20230124T232927Z
UID:1610-1674950400-1675555199@cofchristunion.org
SUMMARY:Collecting for Brookside School
DESCRIPTION:We are collecting Kleenex wipes & tissues
URL:https://cofchristunion.org/event/brookside/
CATEGORIES:Brookside School
END:VEVENT
BEGIN:VEVENT
DTSTART;TZID=America/Detroit:20230125T190000
DTEND;TZID=America/Detroit:20230125T203000
DTSTAMP:20260419T171027
CREATED:20221130T195948Z
LAST-MODIFIED:20221130T195948Z
UID:1010-1674673200-1674678600@cofchristunion.org
SUMMARY:Priesthood Meeting
DESCRIPTION:
URL:https://cofchristunion.org/event/priesthood-meeting-2/
END:VEVENT
BEGIN:VEVENT
DTSTART;TZID=America/Detroit:20230125T140000
DTEND;TZID=America/Detroit:20230125T140000
DTSTAMP:20260419T171027
CREATED:20221130T195907Z
LAST-MODIFIED:20221130T195907Z
UID:1008-1674655200-1674655200@cofchristunion.org
SUMMARY:Nutrition class by Metro Health (2:00)
DESCRIPTION:
URL:https://cofchristunion.org/event/nutrition-class-by-metro-health-200/
END:VEVENT
BEGIN:VEVENT
DTSTART;TZID=America/Detroit:20230124T080000
DTEND;TZID=America/Detroit:20230124T170000
DTSTAMP:20260419T171027
CREATED:20230124T232247Z
LAST-MODIFIED:20230124T232247Z
UID:1620-1674547200-1674579600@cofchristunion.org
SUMMARY:Items for SECOM in February
DESCRIPTION:Primarily Canned Fruit (low sugar) \nALWAYS in need of personal items: Deodorant\, Shampoo
URL:https://cofchristunion.org/event/items-for-secom-in-february/
CATEGORIES:SECOM
END:VEVENT
BEGIN:VEVENT
DTSTART;TZID=America/Detroit:20230122T110000
DTEND;TZID=America/Detroit:20230122T120000
DTSTAMP:20260419T171027
CREATED:20230104T155109Z
LAST-MODIFIED:20230104T155109Z
UID:1365-1674385200-1674388800@cofchristunion.org
SUMMARY:Discussion of Sunday Service
DESCRIPTION:
URL:https://cofchristunion.org/event/discussion-of-sunday-service/
CATEGORIES:Going Deeper
END:VEVENT
BEGIN:VEVENT
DTSTART;TZID=America/Detroit:20230122T100000
DTEND;TZID=America/Detroit:20230122T110000
DTSTAMP:20260419T171027
CREATED:20230104T161040Z
LAST-MODIFIED:20230120T010218Z
UID:1373-1674381600-1674385200@cofchristunion.org
SUMMARY:Worship
DESCRIPTION:Jesus Teaches in the Temple \nLuke 2: 41-52 \nPresiding: Brenda Harvey \nPreaching: Tom Reynolds
URL:https://cofchristunion.org/event/worship-2/
CATEGORIES:Worship Service
END:VEVENT
BEGIN:VEVENT
DTSTART;TZID=America/Detroit:20230118T183000
DTEND;TZID=America/Detroit:20230118T200000
DTSTAMP:20260419T171027
CREATED:20221130T195710Z
LAST-MODIFIED:20221130T195723Z
UID:1006-1674066600-1674072000@cofchristunion.org
SUMMARY:BLT Meeting
DESCRIPTION:
URL:https://cofchristunion.org/event/blt-meeting-2/
END:VEVENT
BEGIN:VEVENT
DTSTART;TZID=America/Detroit:20230115T180000
DTEND;TZID=America/Detroit:20230115T180000
DTSTAMP:20260419T171027
CREATED:20221130T200426Z
LAST-MODIFIED:20230102T035720Z
UID:1012-1673805600-1673805600@cofchristunion.org
SUMMARY:Elder Abuse: What is it? How to recognize it? What to do about it?
DESCRIPTION:Kay Scholle\, MSW\, ETA \nCertified Long-term Care Ombudsman \nArea Agency on Aging of West Michigan \n  \nChristopher R. Becker \nKent County Prosecutor
URL:https://cofchristunion.org/event/recognizing-elder-abuse-and-how-to-provide-care/
CATEGORIES:Justice 2 Peace
END:VEVENT
BEGIN:VEVENT
DTSTART;TZID=America/Detroit:20230115T120000
DTEND;TZID=America/Detroit:20230115T130000
DTSTAMP:20260419T171027
CREATED:20221130T195636Z
LAST-MODIFIED:20221130T195636Z
UID:1004-1673784000-1673787600@cofchristunion.org
SUMMARY:Potluck
DESCRIPTION:Cleanup –
URL:https://cofchristunion.org/event/potluck-2/
END:VEVENT
BEGIN:VEVENT
DTSTART;TZID=America/Detroit:20230115T110000
DTEND;TZID=America/Detroit:20230115T120000
DTSTAMP:20260419T171027
CREATED:20230104T154220Z
LAST-MODIFIED:20230104T154613Z
UID:1363-1673780400-1673784000@cofchristunion.org
SUMMARY:Prayers & discussion for J2P Meeting
DESCRIPTION:
URL:https://cofchristunion.org/event/prayers-discussion-for-j2p-meeting/
CATEGORIES:Going Deeper,Justice 2 Peace
END:VEVENT
BEGIN:VEVENT
DTSTART;TZID=America/Detroit:20230115T100000
DTEND;TZID=America/Detroit:20230115T110000
DTSTAMP:20260419T171027
CREATED:20230104T160048Z
LAST-MODIFIED:20230111T102951Z
UID:1370-1673776800-1673780400@cofchristunion.org
SUMMARY:Worship
DESCRIPTION:The Wisemen Visit \nMatthew 2: 1-12 \nPresiding: Dick Blair \nPreaching: Bobbi Mier \nBulletin \nAnnouncements
URL:https://cofchristunion.org/event/january-15-2023-the-wiseman-visit/
CATEGORIES:Worship Service
END:VEVENT
END:VCALENDAR