BEGIN:VCALENDAR
VERSION:2.0
PRODID:-//Community of Christ Union Ave - ECPv6.15.20//NONSGML v1.0//EN
CALSCALE:GREGORIAN
METHOD:PUBLISH
X-WR-CALNAME:Community of Christ Union Ave
X-ORIGINAL-URL:https://cofchristunion.org
X-WR-CALDESC:Events for Community of Christ Union Ave
REFRESH-INTERVAL;VALUE=DURATION:PT1H
X-Robots-Tag:noindex
X-PUBLISHED-TTL:PT1H
BEGIN:VTIMEZONE
TZID:America/Detroit
BEGIN:DAYLIGHT
TZOFFSETFROM:-0500
TZOFFSETTO:-0400
TZNAME:EDT
DTSTART:20210314T070000
END:DAYLIGHT
BEGIN:STANDARD
TZOFFSETFROM:-0400
TZOFFSETTO:-0500
TZNAME:EST
DTSTART:20211107T060000
END:STANDARD
BEGIN:DAYLIGHT
TZOFFSETFROM:-0500
TZOFFSETTO:-0400
TZNAME:EDT
DTSTART:20220313T070000
END:DAYLIGHT
BEGIN:STANDARD
TZOFFSETFROM:-0400
TZOFFSETTO:-0500
TZNAME:EST
DTSTART:20221106T060000
END:STANDARD
BEGIN:DAYLIGHT
TZOFFSETFROM:-0500
TZOFFSETTO:-0400
TZNAME:EDT
DTSTART:20230312T070000
END:DAYLIGHT
BEGIN:STANDARD
TZOFFSETFROM:-0400
TZOFFSETTO:-0500
TZNAME:EST
DTSTART:20231105T060000
END:STANDARD
BEGIN:DAYLIGHT
TZOFFSETFROM:-0500
TZOFFSETTO:-0400
TZNAME:EDT
DTSTART:20240310T070000
END:DAYLIGHT
BEGIN:STANDARD
TZOFFSETFROM:-0400
TZOFFSETTO:-0500
TZNAME:EST
DTSTART:20241103T060000
END:STANDARD
END:VTIMEZONE
BEGIN:VEVENT
DTSTART;TZID=America/Detroit:20230111T183000
DTEND;TZID=America/Detroit:20230111T200000
DTSTAMP:20260419T214833
CREATED:20221130T195551Z
LAST-MODIFIED:20221130T195551Z
UID:1002-1673461800-1673467200@cofchristunion.org
SUMMARY:Worship Planning
DESCRIPTION:
URL:https://cofchristunion.org/event/worship-planning/
END:VEVENT
BEGIN:VEVENT
DTSTART;TZID=America/Detroit:20230108T110000
DTEND;TZID=America/Detroit:20230108T120000
DTSTAMP:20260419T214833
CREATED:20230104T153400Z
LAST-MODIFIED:20230104T153400Z
UID:1359-1673175600-1673179200@cofchristunion.org
SUMMARY:Kayla's Trip Presentation
DESCRIPTION:
URL:https://cofchristunion.org/event/kaylas-trip-presentation/
CATEGORIES:Going Deeper
END:VEVENT
BEGIN:VEVENT
DTSTART;TZID=America/Detroit:20230108T100000
DTEND;TZID=America/Detroit:20230108T110000
DTSTAMP:20260419T214833
CREATED:20230104T121254Z
LAST-MODIFIED:20230111T102526Z
UID:1355-1673172000-1673175600@cofchristunion.org
SUMMARY:Worship
DESCRIPTION:Jesus presented in the Temple \nLuke 2:21-40 \nBulletin \nAnnouncements
URL:https://cofchristunion.org/event/worship/
LOCATION:Sanctuary\, 2140 Union Ave\, Grand Rapids\, MI\, United States
END:VEVENT
BEGIN:VEVENT
DTSTART;TZID=America/Detroit:20230107T100000
DTEND;TZID=America/Detroit:20230107T110000
DTSTAMP:20260419T214833
CREATED:20230108T003835Z
LAST-MODIFIED:20230108T003835Z
UID:1552-1673085600-1673089200@cofchristunion.org
SUMMARY:Worship
DESCRIPTION:Formed in the Spirit \n1 Corinthians 2: 1-16\, Isaiah 58: 1-12\, Psalms 112: 1-10\, Matthew 5: 13-20
URL:https://cofchristunion.org/event/worship-4/
CATEGORIES:Worship Service
END:VEVENT
BEGIN:VEVENT
DTSTART;TZID=America/Detroit:20230101T092500
DTEND;TZID=America/Detroit:20230101T092500
DTSTAMP:20260419T214833
CREATED:20221130T200854Z
LAST-MODIFIED:20221130T200952Z
UID:1016-1672565100-1672565100@cofchristunion.org
SUMMARY:Prayer Service
DESCRIPTION:
URL:https://cofchristunion.org/event/prayer-service-2/
CATEGORIES:Prayer Service
END:VEVENT
BEGIN:VEVENT
DTSTART;TZID=America/Detroit:20221228T190000
DTEND;TZID=America/Detroit:20221228T203000
DTSTAMP:20260419T214833
CREATED:20221130T195503Z
LAST-MODIFIED:20221130T195503Z
UID:1000-1672254000-1672259400@cofchristunion.org
SUMMARY:Priesthood Meeting
DESCRIPTION:
URL:https://cofchristunion.org/event/priesthood-meeting/
END:VEVENT
BEGIN:VEVENT
DTSTART;TZID=America/Detroit:20221225T100000
DTEND;TZID=America/Detroit:20221225T100000
DTSTAMP:20260419T214833
CREATED:20221130T195327Z
LAST-MODIFIED:20221130T201115Z
UID:996-1671962400-1671962400@cofchristunion.org
SUMMARY:Jesus is Born! (REJOICE)
DESCRIPTION:Preside Vickie \nPreach Tom \nKeyboard Patti \nTech Larry
URL:https://cofchristunion.org/event/jesue-is-born-rejoice/
LOCATION:Sanctuary\, 2140 Union Ave\, Grand Rapids\, MI\, United States
CATEGORIES:Worship Service
END:VEVENT
BEGIN:VEVENT
DTSTART;TZID=America/Detroit:20221224T180000
DTEND;TZID=America/Detroit:20221224T190000
DTSTAMP:20260419T214833
CREATED:20221130T195218Z
LAST-MODIFIED:20221130T195218Z
UID:994-1671904800-1671908400@cofchristunion.org
SUMMARY:Christmas Eve Candlelight Service
DESCRIPTION:
URL:https://cofchristunion.org/event/christmas-eve-candlelight-service/
LOCATION:Sanctuary\, 2140 Union Ave\, Grand Rapids\, MI\, United States
CATEGORIES:Worship Service
END:VEVENT
BEGIN:VEVENT
DTSTART;TZID=America/Detroit:20221221T183000
DTEND;TZID=America/Detroit:20221221T200000
DTSTAMP:20260419T214833
CREATED:20221130T195109Z
LAST-MODIFIED:20221130T195109Z
UID:992-1671647400-1671652800@cofchristunion.org
SUMMARY:BLT Meeting
DESCRIPTION:
URL:https://cofchristunion.org/event/blt-meeting/
END:VEVENT
BEGIN:VEVENT
DTSTART;TZID=America/Detroit:20221218T183000
DTEND;TZID=America/Detroit:20221218T200000
DTSTAMP:20260419T214833
CREATED:20221130T195028Z
LAST-MODIFIED:20221130T195028Z
UID:990-1671388200-1671393600@cofchristunion.org
SUMMARY:Advent Season
DESCRIPTION:Sharing of thoughts on our Advent book “The Gift of Jesus” \nSharing in song- Christmas songs \nSharing of Christmas treats (cookies etc.)
URL:https://cofchristunion.org/event/advent-season-3/
END:VEVENT
BEGIN:VEVENT
DTSTART;TZID=America/Detroit:20221218T100000
DTEND;TZID=America/Detroit:20221218T100000
DTSTAMP:20260419T214833
CREATED:20221130T194843Z
LAST-MODIFIED:20221130T194843Z
UID:986-1671357600-1671357600@cofchristunion.org
SUMMARY:Mary Visits Elizabeth\, John is born (JOY)
DESCRIPTION:Preside Patti F \nPreach Patti Z \nKeyboard Jill \nTech Don
URL:https://cofchristunion.org/event/mary-visits-elizabeth-john-is-born-joy/
LOCATION:Sanctuary\, 2140 Union Ave\, Grand Rapids\, MI\, United States
CATEGORIES:Worship Service
END:VEVENT
BEGIN:VEVENT
DTSTART;TZID=America/Detroit:20221218T000000
DTEND;TZID=America/Detroit:20221218T130000
DTSTAMP:20260419T214833
CREATED:20221130T194937Z
LAST-MODIFIED:20221130T194937Z
UID:988-1671321600-1671368400@cofchristunion.org
SUMMARY:Potluck
DESCRIPTION:Cleanup-
URL:https://cofchristunion.org/event/potluck/
END:VEVENT
BEGIN:VEVENT
DTSTART;TZID=America/Detroit:20221214T183000
DTEND;TZID=America/Detroit:20221214T200000
DTSTAMP:20260419T214833
CREATED:20221130T194651Z
LAST-MODIFIED:20221130T194651Z
UID:982-1671042600-1671048000@cofchristunion.org
SUMMARY:Worship Planning Meeting
DESCRIPTION:
URL:https://cofchristunion.org/event/worship-planning-meeting/
END:VEVENT
BEGIN:VEVENT
DTSTART;TZID=America/Detroit:20221211T183000
DTEND;TZID=America/Detroit:20221211T200000
DTSTAMP:20260419T214833
CREATED:20221130T194608Z
LAST-MODIFIED:20221130T194608Z
UID:980-1670783400-1670788800@cofchristunion.org
SUMMARY:Advent Season
DESCRIPTION:Sharing of thoughts on our Advent book “The Gift of Jesus” \nSharing in song- Christmas songs \nSharing of Christmas treats (cookies etc.)
URL:https://cofchristunion.org/event/advent-season-2/
END:VEVENT
BEGIN:VEVENT
DTSTART;TZID=America/Detroit:20221211T100000
DTEND;TZID=America/Detroit:20221211T100000
DTSTAMP:20260419T214833
CREATED:20221130T194500Z
LAST-MODIFIED:20221130T194500Z
UID:978-1670752800-1670752800@cofchristunion.org
SUMMARY:Joseph's Angelic Dream (PEACE)
DESCRIPTION:Preside Judy \nPreach Marvin \nKeyboard Gwen \nTech Anne
URL:https://cofchristunion.org/event/josephs-angelic-dream-peace/
LOCATION:Sanctuary\, 2140 Union Ave\, Grand Rapids\, MI\, United States
CATEGORIES:Worship Service
END:VEVENT
BEGIN:VEVENT
DTSTART;TZID=America/Detroit:20221204T183000
DTEND;TZID=America/Detroit:20221204T200000
DTSTAMP:20260419T214833
CREATED:20221130T194328Z
LAST-MODIFIED:20221130T194328Z
UID:976-1670178600-1670184000@cofchristunion.org
SUMMARY:Advent Season
DESCRIPTION:Sharing of thoughts on our Advent book “The Gift of Jesus” \nSharing in song- Christmas songs \nSharing of Christmas treats (cookies etc.)
URL:https://cofchristunion.org/event/advent-season/
END:VEVENT
BEGIN:VEVENT
DTSTART;TZID=America/Detroit:20221204T100000
DTEND;TZID=America/Detroit:20221204T100000
DTSTAMP:20260419T214833
CREATED:20221130T194130Z
LAST-MODIFIED:20221130T194153Z
UID:974-1670148000-1670148000@cofchristunion.org
SUMMARY:A child is promised to Mary (LOVE)
DESCRIPTION:Preside Dale \nPreach Colin \nKeyboard Linda \nTech Rolly
URL:https://cofchristunion.org/event/a-child-is-promised-to-mary-love/
LOCATION:Sanctuary\, 2140 Union Ave\, Grand Rapids\, MI\, United States
CATEGORIES:Worship Service
END:VEVENT
BEGIN:VEVENT
DTSTART;TZID=America/Detroit:20221204T092500
DTEND;TZID=America/Detroit:20221204T092500
DTSTAMP:20260419T214833
CREATED:20221130T200543Z
LAST-MODIFIED:20221130T201019Z
UID:1014-1670145900-1670145900@cofchristunion.org
SUMMARY:Prayer Service
DESCRIPTION:
URL:https://cofchristunion.org/event/prayer-service/
CATEGORIES:Prayer Service
END:VEVENT
END:VCALENDAR