BEGIN:VCALENDAR
VERSION:2.0
PRODID:-//Community of Christ Union Ave - ECPv6.15.20//NONSGML v1.0//EN
CALSCALE:GREGORIAN
METHOD:PUBLISH
X-WR-CALNAME:Community of Christ Union Ave
X-ORIGINAL-URL:https://cofchristunion.org
X-WR-CALDESC:Events for Community of Christ Union Ave
REFRESH-INTERVAL;VALUE=DURATION:PT1H
X-Robots-Tag:noindex
X-PUBLISHED-TTL:PT1H
BEGIN:VTIMEZONE
TZID:America/Detroit
BEGIN:DAYLIGHT
TZOFFSETFROM:-0500
TZOFFSETTO:-0400
TZNAME:EDT
DTSTART:20220313T070000
END:DAYLIGHT
BEGIN:STANDARD
TZOFFSETFROM:-0400
TZOFFSETTO:-0500
TZNAME:EST
DTSTART:20221106T060000
END:STANDARD
BEGIN:DAYLIGHT
TZOFFSETFROM:-0500
TZOFFSETTO:-0400
TZNAME:EDT
DTSTART:20230312T070000
END:DAYLIGHT
BEGIN:STANDARD
TZOFFSETFROM:-0400
TZOFFSETTO:-0500
TZNAME:EST
DTSTART:20231105T060000
END:STANDARD
BEGIN:DAYLIGHT
TZOFFSETFROM:-0500
TZOFFSETTO:-0400
TZNAME:EDT
DTSTART:20240310T070000
END:DAYLIGHT
BEGIN:STANDARD
TZOFFSETFROM:-0400
TZOFFSETTO:-0500
TZNAME:EST
DTSTART:20241103T060000
END:STANDARD
END:VTIMEZONE
BEGIN:VEVENT
DTSTART;TZID=America/Detroit:20230301T180000
DTEND;TZID=America/Detroit:20230301T184500
DTSTAMP:20260419T172314
CREATED:20230207T132128Z
LAST-MODIFIED:20230216T232218Z
UID:1715-1677693600-1677696300@cofchristunion.org
SUMMARY:Lenten Prayer and Reflections
DESCRIPTION:
URL:https://cofchristunion.org/event/lent-prayer-and-reflections/
CATEGORIES:Prayer Service
END:VEVENT
BEGIN:VEVENT
DTSTART;TZID=America/Detroit:20230305T100000
DTEND;TZID=America/Detroit:20230305T110000
DTSTAMP:20260419T172314
CREATED:20230213T234128Z
LAST-MODIFIED:20230213T234128Z
UID:1769-1678010400-1678014000@cofchristunion.org
SUMMARY:Explore Your Faith (Nicodemus)
DESCRIPTION:Second Sunday in Lent \nJohn 3: 1-17\, Genesis 12: 1-4a\, Psalm 121\, D&C 95: 1a \n 
URL:https://cofchristunion.org/event/explore-your-faith-nicodemus/
CATEGORIES:Worship Service
END:VEVENT
BEGIN:VEVENT
DTSTART;TZID=America/Detroit:20230305T110500
DTEND;TZID=America/Detroit:20230305T120000
DTSTAMP:20260419T172314
CREATED:20230214T002017Z
LAST-MODIFIED:20230214T002604Z
UID:1785-1678014300-1678017600@cofchristunion.org
SUMMARY:What are John's writing from 3:17 to 4: 5
DESCRIPTION:John 3: 1-17
URL:https://cofchristunion.org/event/what-are-johns-writing-from-317-to-415/
CATEGORIES:Going Deeper
END:VEVENT
BEGIN:VEVENT
DTSTART;TZID=America/Detroit:20230308T180000
DTEND;TZID=America/Detroit:20230308T184500
DTSTAMP:20260419T172314
CREATED:20230207T132609Z
LAST-MODIFIED:20230216T232110Z
UID:1717-1678298400-1678301100@cofchristunion.org
SUMMARY:Lenten Prayer and Reflections
DESCRIPTION:
URL:https://cofchristunion.org/event/lent-prayer-and-reflections-2/
CATEGORIES:Prayer Service
END:VEVENT
BEGIN:VEVENT
DTSTART;TZID=America/Detroit:20230312T100000
DTEND;TZID=America/Detroit:20230312T110000
DTSTAMP:20260419T172314
CREATED:20230213T234900Z
LAST-MODIFIED:20230213T234900Z
UID:1774-1678615200-1678618800@cofchristunion.org
SUMMARY:Embody Christ's Peace (Woman at the Well)
DESCRIPTION:Third Sunday in Lent \nJohn 4: 5-42\, Exodus 17: 1-7\, Psalm 95
URL:https://cofchristunion.org/event/embody-christs-peace-woman-at-the-well/
CATEGORIES:Worship Service
END:VEVENT
BEGIN:VEVENT
DTSTART;TZID=America/Detroit:20230312T110500
DTEND;TZID=America/Detroit:20230312T120000
DTSTAMP:20260419T172314
CREATED:20230214T003128Z
LAST-MODIFIED:20230214T003128Z
UID:1788-1678619100-1678622400@cofchristunion.org
SUMMARY:What are John's writings from 4: 42 to 9: 1
DESCRIPTION:John 4: 5-42
URL:https://cofchristunion.org/event/what-are-johns-writings-from-4-42-to-9-1/
CATEGORIES:Going Deeper
END:VEVENT
BEGIN:VEVENT
DTSTART;TZID=America/Detroit:20230315T180000
DTEND;TZID=America/Detroit:20230315T184500
DTSTAMP:20260419T172314
CREATED:20230207T132957Z
LAST-MODIFIED:20230216T231929Z
UID:1719-1678903200-1678905900@cofchristunion.org
SUMMARY:Lenten Prayer and Reflections
DESCRIPTION:
URL:https://cofchristunion.org/event/lent-prayer-and-reflections-3/
CATEGORIES:Prayer Service
END:VEVENT
BEGIN:VEVENT
DTSTART;TZID=America/Detroit:20230318T080000
DTEND;TZID=America/Detroit:20230318T170000
DTSTAMP:20260419T172314
CREATED:20230307T031950Z
LAST-MODIFIED:20230307T032140Z
UID:1885-1679126400-1679158800@cofchristunion.org
SUMMARY:Birthday Party
DESCRIPTION:Rosetta’s 4th birthday
URL:https://cofchristunion.org/event/birthday-party/
CATEGORIES:Outside Group
END:VEVENT
BEGIN:VEVENT
DTSTART;TZID=America/Detroit:20230319T100000
DTEND;TZID=America/Detroit:20230319T110000
DTSTAMP:20260419T172314
CREATED:20230213T235600Z
LAST-MODIFIED:20230213T235600Z
UID:1777-1679220000-1679223600@cofchristunion.org
SUMMARY:Live in the Light (Jesus heals the blind man)
DESCRIPTION:Fourth Sunday in Lent \nJohn 9: 1-41\, 1 Samuel 16: 1-13\, Psalm 23
URL:https://cofchristunion.org/event/live-in-the-light-jesus-heals-the-blind-man/
CATEGORIES:Worship Service
END:VEVENT
BEGIN:VEVENT
DTSTART;TZID=America/Detroit:20230319T110500
DTEND;TZID=America/Detroit:20230319T120000
DTSTAMP:20260419T172314
CREATED:20230214T004422Z
LAST-MODIFIED:20230214T004422Z
UID:1792-1679223900-1679227200@cofchristunion.org
SUMMARY:What are John's writings from 9:41 to 11:1
DESCRIPTION:Lear new song/bells for Easter
URL:https://cofchristunion.org/event/what-are-johns-writings-from-941-to-111-2/
CATEGORIES:Going Deeper
END:VEVENT
BEGIN:VEVENT
DTSTART;TZID=America/Detroit:20230319T180000
DTEND;TZID=America/Detroit:20230319T203000
DTSTAMP:20260419T172314
CREATED:20230127T231651Z
LAST-MODIFIED:20230205T225415Z
UID:1639-1679248800-1679257800@cofchristunion.org
SUMMARY:Movie Night: Les Miserables - the musical
DESCRIPTION:Come join us as we journey through Lent exploring the themes of grace\, justice\, love\, and hope by discovering the parallels between Lent and the movie Les Miserables.
URL:https://cofchristunion.org/event/les-miserables/
CATEGORIES:Book Club
END:VEVENT
BEGIN:VEVENT
DTSTART;TZID=America/Detroit:20230322T180000
DTEND;TZID=America/Detroit:20230322T184500
DTSTAMP:20260419T172314
CREATED:20230207T133322Z
LAST-MODIFIED:20230216T231821Z
UID:1721-1679508000-1679510700@cofchristunion.org
SUMMARY:Lenten Prayer and Reflections
DESCRIPTION:
URL:https://cofchristunion.org/event/lent-prayer-and-reflections-4/
CATEGORIES:Prayer Service
END:VEVENT
BEGIN:VEVENT
DTSTART;TZID=America/Detroit:20230326T100000
DTEND;TZID=America/Detroit:20230326T110000
DTSTAMP:20260419T172314
CREATED:20230214T000337Z
LAST-MODIFIED:20230214T000337Z
UID:1779-1679824800-1679828400@cofchristunion.org
SUMMARY:Is Christ in you? (Jesus raises Lazarus)
DESCRIPTION:Fifth Sunday in Lent \nJohn 11: 1-45\, Ezekiel 37: 1-14\, Psalm 130\, Mosiah 8 : 28-37
URL:https://cofchristunion.org/event/is-christ-in-you-jesus-raises-lazarus/
CATEGORIES:Worship Service
END:VEVENT
BEGIN:VEVENT
DTSTART;TZID=America/Detroit:20230326T110500
DTEND;TZID=America/Detroit:20230326T120000
DTSTAMP:20260419T172314
CREATED:20230214T005018Z
LAST-MODIFIED:20230214T005018Z
UID:1794-1679828700-1679832000@cofchristunion.org
SUMMARY:John 11: 1-45
DESCRIPTION:
URL:https://cofchristunion.org/event/john-11-1-45/
CATEGORIES:Going Deeper
END:VEVENT
BEGIN:VEVENT
DTSTART;TZID=America/Detroit:20230326T183000
DTEND;TZID=America/Detroit:20230326T200000
DTSTAMP:20260419T172314
CREATED:20230127T233214Z
LAST-MODIFIED:20230205T230353Z
UID:1645-1679855400-1679860800@cofchristunion.org
SUMMARY:Book Club: The Grace of Les Miserables by Matt Rawle
DESCRIPTION:Come join us as we journey through Lent exploring the themes of grace\, justice\, love\, and hope by discovering the parallels between Lent and the movie Les Miserables. \nContact Judy Rice if you would like the book ($10.00).
URL:https://cofchristunion.org/event/the-grace-of-les-miserables-by-matt-rawle-2/
CATEGORIES:Book Club
END:VEVENT
BEGIN:VEVENT
DTSTART;TZID=America/Detroit:20230329T180000
DTEND;TZID=America/Detroit:20230329T184500
DTSTAMP:20260419T172314
CREATED:20230207T134227Z
LAST-MODIFIED:20230216T231707Z
UID:1726-1680112800-1680115500@cofchristunion.org
SUMMARY:Lenten Prayer and Reflections
DESCRIPTION:
URL:https://cofchristunion.org/event/lent-prayer-and-reflections-6/
CATEGORIES:Prayer Service
END:VEVENT
END:VCALENDAR